BEGIN:VCALENDAR
VERSION:2.0
PRODID:-//Lee County Republican Executive Committee - ECPv6.15.18//NONSGML v1.0//EN
CALSCALE:GREGORIAN
METHOD:PUBLISH
X-ORIGINAL-URL:https://www.leegop.org
X-WR-CALDESC:Events for Lee County Republican Executive Committee
REFRESH-INTERVAL;VALUE=DURATION:PT1H
X-Robots-Tag:noindex
X-PUBLISHED-TTL:PT1H
BEGIN:VTIMEZONE
TZID:America/New_York
BEGIN:DAYLIGHT
TZOFFSETFROM:-0500
TZOFFSETTO:-0400
TZNAME:EDT
DTSTART:20230312T070000
END:DAYLIGHT
BEGIN:STANDARD
TZOFFSETFROM:-0400
TZOFFSETTO:-0500
TZNAME:EST
DTSTART:20231105T060000
END:STANDARD
BEGIN:DAYLIGHT
TZOFFSETFROM:-0500
TZOFFSETTO:-0400
TZNAME:EDT
DTSTART:20240310T070000
END:DAYLIGHT
BEGIN:STANDARD
TZOFFSETFROM:-0400
TZOFFSETTO:-0500
TZNAME:EST
DTSTART:20241103T060000
END:STANDARD
BEGIN:DAYLIGHT
TZOFFSETFROM:-0500
TZOFFSETTO:-0400
TZNAME:EDT
DTSTART:20250309T070000
END:DAYLIGHT
BEGIN:STANDARD
TZOFFSETFROM:-0400
TZOFFSETTO:-0500
TZNAME:EST
DTSTART:20251102T060000
END:STANDARD
END:VTIMEZONE
BEGIN:VEVENT
DTSTART;TZID=America/New_York:20240725T180000
DTEND;TZID=America/New_York:20240725T200000
DTSTAMP:20260425T230046
CREATED:20240708T005316Z
LAST-MODIFIED:20240708T005316Z
UID:10000660-1721930400-1721937600@www.leegop.org
SUMMARY:'Vote No ON 4'
DESCRIPTION:The LEEGOP America First Club has invited Ms Debbie Healy\,  Public Policy Advisor and W.I.N. Board member to visit with our AFC members and share/discuss the great work being done on behalf of DoNoHarmFl.org and also to caution us on leftist antics of cleverly disguised intentions hidden in plain sight on our ballots! \nPlease join us in the pivotal battle and let’s do our part in preserving posterity! \nAFC members\, please remember to bring the annual membership fee. I am humbly asking that you come prepared with cash or check\, so that the club may be able to open its first bank account and be able to continue to grow. \nDoors open at 6:00 P.M. \nCLUB MEETING at 6:30 P.M. \nGuest Speaker starts no later then 7:00 P.M. \nLocation: LeeGOP Headquarters \n12995 S Cleveland Ave.\, Unit 239 \nPlease contact club President\, Michael Leiva at ML4AMERICAFIRST@GMAIL.COM \nor LeeGOP Headquarters for any further information on the event and/or club. \nThank you and God Bless The United States of America !
URL:https://www.leegop.org/event/vote-no-on-4/
CATEGORIES:America First Republican Club
ATTACH;FMTTYPE=image/png:https://www.leegop.org/wp-content/uploads/2024/07/image00000018.png
ORGANIZER;CN="Veterans Committee":MAILTO:283heavy@gmail.com
END:VEVENT
END:VCALENDAR