BEGIN:VCALENDAR
VERSION:2.0
PRODID:-//Lee County Republican Executive Committee - ECPv6.15.18//NONSGML v1.0//EN
CALSCALE:GREGORIAN
METHOD:PUBLISH
X-WR-CALNAME:Lee County Republican Executive Committee
X-ORIGINAL-URL:https://www.leegop.org
X-WR-CALDESC:Events for Lee County Republican Executive Committee
REFRESH-INTERVAL;VALUE=DURATION:PT1H
X-Robots-Tag:noindex
X-PUBLISHED-TTL:PT1H
BEGIN:VTIMEZONE
TZID:America/New_York
BEGIN:DAYLIGHT
TZOFFSETFROM:-0500
TZOFFSETTO:-0400
TZNAME:EDT
DTSTART:20230312T070000
END:DAYLIGHT
BEGIN:STANDARD
TZOFFSETFROM:-0400
TZOFFSETTO:-0500
TZNAME:EST
DTSTART:20231105T060000
END:STANDARD
BEGIN:DAYLIGHT
TZOFFSETFROM:-0500
TZOFFSETTO:-0400
TZNAME:EDT
DTSTART:20240310T070000
END:DAYLIGHT
BEGIN:STANDARD
TZOFFSETFROM:-0400
TZOFFSETTO:-0500
TZNAME:EST
DTSTART:20241103T060000
END:STANDARD
BEGIN:DAYLIGHT
TZOFFSETFROM:-0500
TZOFFSETTO:-0400
TZNAME:EDT
DTSTART:20250309T070000
END:DAYLIGHT
BEGIN:STANDARD
TZOFFSETFROM:-0400
TZOFFSETTO:-0500
TZNAME:EST
DTSTART:20251102T060000
END:STANDARD
END:VTIMEZONE
BEGIN:VEVENT
DTSTART;TZID=America/New_York:20241102T110000
DTEND;TZID=America/New_York:20241102T123000
DTSTAMP:20260425T095732
CREATED:20241029T194851Z
LAST-MODIFIED:20241030T033025Z
UID:10000668-1730545200-1730550600@www.leegop.org
SUMMARY:' HOLD THE LINE ' Patriots for Trump Flag Waving Event
DESCRIPTION:The LEEGOP and the America First Republican Club in concert with the Community Outreach Committee\, invite you all to come and join us on Saturday the 2nd\, from 11:00 A.M. P.M. to 12:30 PM for a Republican Party Headquarters flag waving event during our Open House. We will then join all of the fellow patriots outside\, who are proudly holding the line on US 41\, representing our country’s Flag and showing their love and support for President Donald J. Trump.\nAfter the flag waving at our offices\, we will convoy to FGCU\, and join ‘Save America\,’ a patriotic youth movement geared at encouraging young adults to boldly and proudly stand by Conservative values and principles. We will join them on a march around the campus while flag waving and engaging other students.\nWe are located at 12995 S. Cleveland Ave. Suite 239 in Fort Myers in the Pinebrook Plaza across from Mission BBQ and directly above Classy Nails Salon.\nCome and meet with fellow patriots in the Republican Party who have been working hard for you behind the scenes as well as from the front lines. Tour our headquarters office and proudly stand with us in support of President Trump and his running mate JD Vance\, as we gather for flag waving and a patriot celebration in front of our offices right there on US 41.\nFurther details will soon be announced regarding a Victory rally to take place after the election\nI look forward to seeing you all soon and working together as we do our part in rescuing America starting with reelecting and returning President Trump back into the Whitehouse.\nHold the Line!\nMichael Leiva\nChairman\, LCREC Community Outreach Cmte\nPresident\, LEEGOP America First Club\nML4americafirst@gmail.com\n(239)257-9793
URL:https://www.leegop.org/event/hold-the-line-patriots-for-trump-flag-waving-event/
LOCATION:RSW\, 11000 Terminal Access Road\, Fort Myers\, 33913
CATEGORIES:America First Republican Club,Open House
ATTACH;FMTTYPE=image/jpeg:https://www.leegop.org/wp-content/uploads/2024/10/Memorial-Day-Event-Flyer_1730135330222.jpg
ORGANIZER;CN="Veterans Committee":MAILTO:283heavy@gmail.com
END:VEVENT
BEGIN:VEVENT
DTSTART;TZID=America/New_York:20241102T110000
DTEND;TZID=America/New_York:20241102T123000
DTSTAMP:20260425T095732
CREATED:20241030T032740Z
LAST-MODIFIED:20241030T032740Z
UID:10000669-1730545200-1730550600@www.leegop.org
SUMMARY:OPEN HOUSE
DESCRIPTION:Tour our Headquarters\, learn more about Volunteer Opportunities\, Membership in the Lee GOP\, local Republican candidates\, and grab your yard signs!\nLee GOP Headquarters\n12995 S. Cleveland Ave.\nSuite 239\,\nFort Myers FL 33967\nSaturday November 2nd\n11:00 AM- 12:30 PM\nWe are working hard for you!\n(Republicans) DOMINATE FLORIDA…We Are RED!! \nAll yards signs for Rick Scott\, Vote NO on Amendments 3 and 4\, and Superintendent Candidate Denise Carlin are FREE while supplies last. \nDonations accepted but limited to $50 in cash and Superintendent Candidate Denise Carlin\nCredit cards (+ a small processing fee) and check accepted for unlimited amounts! \n \n 
URL:https://www.leegop.org/event/open-house-2/
LOCATION:RSW\, 11000 Terminal Access Road\, Fort Myers\, 33913
CATEGORIES:Open House
ATTACH;FMTTYPE=image/jpeg:https://www.leegop.org/wp-content/uploads/2024/10/dino-1.jpg
END:VEVENT
END:VCALENDAR