BEGIN:VCALENDAR
VERSION:2.0
PRODID:-//Lee County Republican Executive Committee - ECPv6.15.18//NONSGML v1.0//EN
CALSCALE:GREGORIAN
METHOD:PUBLISH
X-ORIGINAL-URL:https://www.leegop.org
X-WR-CALDESC:Events for Lee County Republican Executive Committee
REFRESH-INTERVAL;VALUE=DURATION:PT1H
X-Robots-Tag:noindex
X-PUBLISHED-TTL:PT1H
BEGIN:VTIMEZONE
TZID:America/New_York
BEGIN:DAYLIGHT
TZOFFSETFROM:-0500
TZOFFSETTO:-0400
TZNAME:EDT
DTSTART:20230312T070000
END:DAYLIGHT
BEGIN:STANDARD
TZOFFSETFROM:-0400
TZOFFSETTO:-0500
TZNAME:EST
DTSTART:20231105T060000
END:STANDARD
BEGIN:DAYLIGHT
TZOFFSETFROM:-0500
TZOFFSETTO:-0400
TZNAME:EDT
DTSTART:20240310T070000
END:DAYLIGHT
BEGIN:STANDARD
TZOFFSETFROM:-0400
TZOFFSETTO:-0500
TZNAME:EST
DTSTART:20241103T060000
END:STANDARD
BEGIN:DAYLIGHT
TZOFFSETFROM:-0500
TZOFFSETTO:-0400
TZNAME:EDT
DTSTART:20250309T070000
END:DAYLIGHT
BEGIN:STANDARD
TZOFFSETFROM:-0400
TZOFFSETTO:-0500
TZNAME:EST
DTSTART:20251102T060000
END:STANDARD
END:VTIMEZONE
BEGIN:VEVENT
DTSTART;TZID=America/New_York:20241111T090000
DTEND;TZID=America/New_York:20241111T110000
DTSTAMP:20260425T154143
CREATED:20241102T011755Z
LAST-MODIFIED:20241109T161411Z
UID:10000674-1731315600-1731322800@www.leegop.org
SUMMARY:Second Annual Veterans Day Breakfast Fundraiser - A Salute to Veterans
DESCRIPTION:Veterans Committee 2nd Annual Veterans Day Breakfast Fundraiser\n“A Salute to Veterans”\nOn line reservations closed.  Contact the chair for reservations.\nMichael Thompson – chair@leegop.org\n \nGuest Speakers:\nCongressman Byron Donalds\nFort Myers Mayor Kevin Anderson\nLeeGOP Veterans Committee Chairman Roy Adams\nMajor Brian Williams\, JROTC Rifle Coach\, Cape Coral Mariner H.S.\nLocation:\nPlantation Golf & Country Club\n10500 Darlington Dr.\nFort Myers\, FL 33939\nDate and Time:\nNovember 11\, 2024\n9:00 AM – 11:00 AM\nTickets: $40 per person.\nOn line reservations closed.  Contact the chair for reservations.\nMichael Thompson – chair@leegop.org\nQuestions: Contact Veterans Committee Chairman Roy Adams @(585) 750-5456 or 283heavy@gmail.com\nSpecial thanks to our wonderful sponsor
URL:https://www.leegop.org/event/second-annual-veterans-day-breakfast-fundraiser-a-salute-to-veterans/
LOCATION:Plantation Golf & Country Club\, 10500 Dartington Dr\,\, Fort Myers\, 33936
CATEGORIES:Veterans Day Breakfast Salute & Fundraiser
ATTACH;FMTTYPE=image/jpeg:https://www.leegop.org/wp-content/uploads/2024/11/veterans-medium-1.jpg
ORGANIZER;CN="Veterans Committee":MAILTO:283heavy@gmail.com
END:VEVENT
END:VCALENDAR