BEGIN:VCALENDAR
VERSION:2.0
PRODID:-//Lee County Republican Executive Committee - ECPv6.15.18//NONSGML v1.0//EN
CALSCALE:GREGORIAN
METHOD:PUBLISH
X-ORIGINAL-URL:https://www.leegop.org
X-WR-CALDESC:Events for Lee County Republican Executive Committee
REFRESH-INTERVAL;VALUE=DURATION:PT1H
X-Robots-Tag:noindex
X-PUBLISHED-TTL:PT1H
BEGIN:VTIMEZONE
TZID:America/New_York
BEGIN:DAYLIGHT
TZOFFSETFROM:-0500
TZOFFSETTO:-0400
TZNAME:EDT
DTSTART:20230312T070000
END:DAYLIGHT
BEGIN:STANDARD
TZOFFSETFROM:-0400
TZOFFSETTO:-0500
TZNAME:EST
DTSTART:20231105T060000
END:STANDARD
BEGIN:DAYLIGHT
TZOFFSETFROM:-0500
TZOFFSETTO:-0400
TZNAME:EDT
DTSTART:20240310T070000
END:DAYLIGHT
BEGIN:STANDARD
TZOFFSETFROM:-0400
TZOFFSETTO:-0500
TZNAME:EST
DTSTART:20241103T060000
END:STANDARD
BEGIN:DAYLIGHT
TZOFFSETFROM:-0500
TZOFFSETTO:-0400
TZNAME:EDT
DTSTART:20250309T070000
END:DAYLIGHT
BEGIN:STANDARD
TZOFFSETFROM:-0400
TZOFFSETTO:-0500
TZNAME:EST
DTSTART:20251102T060000
END:STANDARD
END:VTIMEZONE
BEGIN:VEVENT
DTSTART;TZID=America/New_York:20241116T101500
DTEND;TZID=America/New_York:20241116T160000
DTSTAMP:20260425T125445
CREATED:20241111T210936Z
LAST-MODIFIED:20241111T210936Z
UID:10000678-1731752100-1731772800@www.leegop.org
SUMMARY:'VICTORY FOR AMERICA' Parade 2 Rally
DESCRIPTION:‘VICTORY FOR AMERICA’ is A celebratory event commemorating our newly elected President\, Donald J. Trump and his triumph against the Washington Establishment.\n‘VICTORY FOR AMERICA’ is A day of celebration marking the commencement of A prosperous new Era\, rejuvenating the American Dream. \nThe Mission is to unite with like-minded Patriots and participate in A MASSIVE PARADE that will travel in convoy around Cape Coral and lead to the Rally location\, where we will gather and enjoy the festivities and fellowship. \nPARADE\nWe will meet in Cape Coral at the Coralwood Shopping Center on Del Prado Blvd. at 10:15 A.M. and depart at 10:45 A.M. \nRALLY\nExpected Arrival time: 12:00 P.M.\nWe encourage you to please enjoy lunch at one of the 4 local restaurants that have proudly opened up their establishments in support of the cause.\n♤ BlackBeards Tavern\n♡ Sea-Craft Waterfront Tiki\n◇ Nauti Parrot Tiki Hut\n♧ Cheeks at Sunset Harbor Village \nGuest Speakers\n☆ Social media influencer\, Conservative Ant\n☆ Fmr.. Congressman\, Madison Cawthorn\n☆ LCREC Chairman\, Michael Thompson\n☆ Fmr. Professional Football player\, Pastor Dewayne Moore\n☆ American Revival Church\, Pastor Ariel Martinez \nStop by and see ReTrumplicans2024 with lots of great Trump merchandise and more… \nVENDORS WELCOME but must inquire soon. DM for further details. \nSee you all soon! \nThank you\,\nMichael Leiva\nChairman\, LCREC COMMUNITY OUTREACH CMTE\nPresident\, LEEGOP America First Club
URL:https://www.leegop.org/event/victory-for-america-parade-2-rally/
CATEGORIES:America First Republican Club
ATTACH;FMTTYPE=image/jpeg:https://www.leegop.org/wp-content/uploads/2024/11/Screenshot_20241109_181332_Chrome.jpg
ORGANIZER;CN="LeeGOP":MAILTO:office@LeeGOP.org
END:VEVENT
END:VCALENDAR