BEGIN:VCALENDAR
VERSION:2.0
PRODID:-//Lee County Republican Executive Committee - ECPv6.15.18//NONSGML v1.0//EN
CALSCALE:GREGORIAN
METHOD:PUBLISH
X-ORIGINAL-URL:https://www.leegop.org
X-WR-CALDESC:Events for Lee County Republican Executive Committee
REFRESH-INTERVAL;VALUE=DURATION:PT1H
X-Robots-Tag:noindex
X-PUBLISHED-TTL:PT1H
BEGIN:VTIMEZONE
TZID:America/New_York
BEGIN:DAYLIGHT
TZOFFSETFROM:-0500
TZOFFSETTO:-0400
TZNAME:EDT
DTSTART:20240310T070000
END:DAYLIGHT
BEGIN:STANDARD
TZOFFSETFROM:-0400
TZOFFSETTO:-0500
TZNAME:EST
DTSTART:20241103T060000
END:STANDARD
BEGIN:DAYLIGHT
TZOFFSETFROM:-0500
TZOFFSETTO:-0400
TZNAME:EDT
DTSTART:20250309T070000
END:DAYLIGHT
BEGIN:STANDARD
TZOFFSETFROM:-0400
TZOFFSETTO:-0500
TZNAME:EST
DTSTART:20251102T060000
END:STANDARD
BEGIN:DAYLIGHT
TZOFFSETFROM:-0500
TZOFFSETTO:-0400
TZNAME:EDT
DTSTART:20260308T070000
END:DAYLIGHT
BEGIN:STANDARD
TZOFFSETFROM:-0400
TZOFFSETTO:-0500
TZNAME:EST
DTSTART:20261101T060000
END:STANDARD
END:VTIMEZONE
BEGIN:VEVENT
DTSTART;TZID=America/New_York:20250403T173000
DTEND;TZID=America/New_York:20250403T193000
DTSTAMP:20260422T203016
CREATED:20250314T225436Z
LAST-MODIFIED:20250324T131952Z
UID:10000692-1743701400-1743708600@www.leegop.org
SUMMARY:Republican Club of Southwest Florida Meeting
DESCRIPTION:Join us Thursday evening\, April 3rd at 5:30pm\, for an update from Lee County Commissioner David Mulicka.\n 
URL:https://www.leegop.org/event/republican-club-of-southwest-florida-april-3rd-meeting/
LOCATION:Bonita Springs Lions Club\, 10346 Pennsylvania Avenue\, Bonita Springs\, FL\, 34135\, United States
CATEGORIES:Republican Club Of Southwest Florida
ORGANIZER;CN="Republican Club of Southwest Florida":MAILTO:swflgop1@gmail.com
END:VEVENT
END:VCALENDAR