BEGIN:VCALENDAR
VERSION:2.0
PRODID:-//Lee County Republican Executive Committee - ECPv6.15.18//NONSGML v1.0//EN
CALSCALE:GREGORIAN
METHOD:PUBLISH
X-ORIGINAL-URL:https://www.leegop.org
X-WR-CALDESC:Events for Lee County Republican Executive Committee
REFRESH-INTERVAL;VALUE=DURATION:PT1H
X-Robots-Tag:noindex
X-PUBLISHED-TTL:PT1H
BEGIN:VTIMEZONE
TZID:America/New_York
BEGIN:DAYLIGHT
TZOFFSETFROM:-0500
TZOFFSETTO:-0400
TZNAME:EDT
DTSTART:20240310T070000
END:DAYLIGHT
BEGIN:STANDARD
TZOFFSETFROM:-0400
TZOFFSETTO:-0500
TZNAME:EST
DTSTART:20241103T060000
END:STANDARD
BEGIN:DAYLIGHT
TZOFFSETFROM:-0500
TZOFFSETTO:-0400
TZNAME:EDT
DTSTART:20250309T070000
END:DAYLIGHT
BEGIN:STANDARD
TZOFFSETFROM:-0400
TZOFFSETTO:-0500
TZNAME:EST
DTSTART:20251102T060000
END:STANDARD
BEGIN:DAYLIGHT
TZOFFSETFROM:-0500
TZOFFSETTO:-0400
TZNAME:EDT
DTSTART:20260308T070000
END:DAYLIGHT
BEGIN:STANDARD
TZOFFSETFROM:-0400
TZOFFSETTO:-0500
TZNAME:EST
DTSTART:20261101T060000
END:STANDARD
END:VTIMEZONE
BEGIN:VEVENT
DTSTART;TZID=America/New_York:20250405T100000
DTEND;TZID=America/New_York:20250405T113000
DTSTAMP:20260422T203018
CREATED:20250301T035511Z
LAST-MODIFIED:20250312T022353Z
UID:10000687-1743847200-1743852600@www.leegop.org
SUMMARY:LCREC Business Meeting
DESCRIPTION:Your Lee County Republican Executive Committee is an important organization directly affiliated to the Republican Party of Florida. We are your county delegates! The LCREC seeks to accomplish several objectives outlined in the state and county model constitutions. \n\nFoster loyalty to the Republican Party\nEducate voters\nIncrease Republican voter registrations\nSeek qualified Republicans\nPromote the election of Republicans in the General Election\nUphold the principles of the Republican Party\n\nWe are precinct committeemen/women who are tasked to keep our individual voting precincts informed about local Republican events and elections. We are the worker bees and our work has only just begun as we build the foundation for a strong America for generations to come. \nDuring business meetings the member-elected Board\, and others\, seek to update the committeemen/women on the organization’s previous\, current and future objectives. At times we discuss potential resolutions to be shared with our local officials. Everything starts local!  \nDoors open at 9:15AM. We kindly ask everyone to be checked in and seated by 9:50AM so we can start on time at 10AM.  \nMembers should submit their excused absences\, motions\, and suggested agenda edits at least 48 hours prior to the business meeting date. Only members can vote during business meetings. Guests are welcome\, but cannot vote or participate. No RSVP is required. Join the LCREC as a member by attending a meeting to pick up an application and confirm your precinct’s availability. Want to volunteer instead? Sign up HERE.
URL:https://www.leegop.org/event/lcrec-business-meeting-2/
LOCATION:Word of Life Church\, 6111 South Pointe Blvd.\, Fort Myers\, FL\, 33919\, United States
ATTACH;FMTTYPE=image/png:https://www.leegop.org/wp-content/uploads/2025/02/LOGO.png
ORGANIZER;CN="LeeGOP":MAILTO:office@LeeGOP.org
END:VEVENT
END:VCALENDAR