BEGIN:VCALENDAR
VERSION:2.0
PRODID:-//Lee County Republican Executive Committee - ECPv6.15.18//NONSGML v1.0//EN
CALSCALE:GREGORIAN
METHOD:PUBLISH
X-ORIGINAL-URL:https://www.leegop.org
X-WR-CALDESC:Events for Lee County Republican Executive Committee
REFRESH-INTERVAL;VALUE=DURATION:PT1H
X-Robots-Tag:noindex
X-PUBLISHED-TTL:PT1H
BEGIN:VTIMEZONE
TZID:America/New_York
BEGIN:DAYLIGHT
TZOFFSETFROM:-0500
TZOFFSETTO:-0400
TZNAME:EDT
DTSTART:20240310T070000
END:DAYLIGHT
BEGIN:STANDARD
TZOFFSETFROM:-0400
TZOFFSETTO:-0500
TZNAME:EST
DTSTART:20241103T060000
END:STANDARD
BEGIN:DAYLIGHT
TZOFFSETFROM:-0500
TZOFFSETTO:-0400
TZNAME:EDT
DTSTART:20250309T070000
END:DAYLIGHT
BEGIN:STANDARD
TZOFFSETFROM:-0400
TZOFFSETTO:-0500
TZNAME:EST
DTSTART:20251102T060000
END:STANDARD
BEGIN:DAYLIGHT
TZOFFSETFROM:-0500
TZOFFSETTO:-0400
TZNAME:EDT
DTSTART:20260308T070000
END:DAYLIGHT
BEGIN:STANDARD
TZOFFSETFROM:-0400
TZOFFSETTO:-0500
TZNAME:EST
DTSTART:20261101T060000
END:STANDARD
END:VTIMEZONE
BEGIN:VEVENT
DTSTART;TZID=America/New_York:20250711T180000
DTEND;TZID=America/New_York:20250711T210000
DTSTAMP:20260422T140906
CREATED:20250620T013541Z
LAST-MODIFIED:20250621T163051Z
UID:10000732-1752256800-1752267600@www.leegop.org
SUMMARY:Activism Bootcamp - A KrisAnne Hall Training Session
DESCRIPTION:💥 Activate Your Patriot Power 💥“Constitutional Boot Camp for Precinct Warriors” \nJoin Constitutional Attorney KrisAnne Hall and her husband JC for a powerful video training designed for Precinct Committeemen\, Committeewomen\, and Volunteers. Discover constitutional truths\, practical tools\, and real-world strategies to take your impact to the next level. \nCome ready to learn. Leave empowered to lead. \n🛑 Bring a non-alcoholic beverage or food item to share — it’s a potluck!🎟️ Precinct Committeemen and Committeewomen attend FREE.💵 Suggested donation of $10 for all others — payable on site by cash or check\, or online at LeeGOP.org (click the Donation button).📧 RSVP to ElectTaraJenner@gmail.com\nModerator: State Committewoman Tara Jenner \nEducate\, Organize\, Activate\nLearn how to get organized and engaged. Turn your dissatisfaction into action! \n\n\n\n\nCourse Video Lessons – total time approx. 2hr 45mins\n\nThe Proper Flow of Authority\nGovernments Only Purpose \nWe Will Not Comply\nGet Educated\nKey Components of Organizing\nLobbying and Wielding Influence\nBe the Watchmen\nParty Strategy\nYour Motivation
URL:https://www.leegop.org/event/activism-bootcamp-a-krisanne-hall-training-session/
LOCATION:LeeGOP HQ\, 12995 S. Cleveland Ave. #239\, Fort Myers\, FL\, 33907\, United States
CATEGORIES:LCREC Training,Public Event
ATTACH;FMTTYPE=image/jpeg:https://www.leegop.org/wp-content/uploads/2025/06/activism-bootcamp.jpg
ORGANIZER;CN="Tara Jenner":MAILTO:ViceChair@LeeGOP.org
END:VEVENT
END:VCALENDAR