BEGIN:VCALENDAR
VERSION:2.0
PRODID:-//Lee County Republican Executive Committee - ECPv6.15.18//NONSGML v1.0//EN
CALSCALE:GREGORIAN
METHOD:PUBLISH
X-WR-CALNAME:Lee County Republican Executive Committee
X-ORIGINAL-URL:https://www.leegop.org
X-WR-CALDESC:Events for Lee County Republican Executive Committee
REFRESH-INTERVAL;VALUE=DURATION:PT1H
X-Robots-Tag:noindex
X-PUBLISHED-TTL:PT1H
BEGIN:VTIMEZONE
TZID:America/New_York
BEGIN:DAYLIGHT
TZOFFSETFROM:-0500
TZOFFSETTO:-0400
TZNAME:EDT
DTSTART:20240310T070000
END:DAYLIGHT
BEGIN:STANDARD
TZOFFSETFROM:-0400
TZOFFSETTO:-0500
TZNAME:EST
DTSTART:20241103T060000
END:STANDARD
BEGIN:DAYLIGHT
TZOFFSETFROM:-0500
TZOFFSETTO:-0400
TZNAME:EDT
DTSTART:20250309T070000
END:DAYLIGHT
BEGIN:STANDARD
TZOFFSETFROM:-0400
TZOFFSETTO:-0500
TZNAME:EST
DTSTART:20251102T060000
END:STANDARD
BEGIN:DAYLIGHT
TZOFFSETFROM:-0500
TZOFFSETTO:-0400
TZNAME:EDT
DTSTART:20260308T070000
END:DAYLIGHT
BEGIN:STANDARD
TZOFFSETFROM:-0400
TZOFFSETTO:-0500
TZNAME:EST
DTSTART:20261101T060000
END:STANDARD
END:VTIMEZONE
BEGIN:VEVENT
DTSTART;TZID=America/New_York:20250730T180000
DTEND;TZID=America/New_York:20250730T190000
DTSTAMP:20260422T113519
CREATED:20250726T022150Z
LAST-MODIFIED:20250726T022150Z
UID:10000736-1753898400-1753902000@www.leegop.org
SUMMARY:Volunteer Meeting (all welcome)
DESCRIPTION:🎉 Calling All Patriots! 🎉 Two major fundraisers are coming up—September 6 & 20—and the Lee County GOP needs YOU to help make them unforgettable! \n💪 Whether you’re a seasoned volunteer or just fired up to make a difference\, everyone is welcome to attend! Come learn how you can be part of the action as we plan\, build\, and launch two powerhouse events to support and spotlight strong Republican candidates. BRING A FRIEND! \n🛠️ We’re assembling an all-star team to tackle: \n\nEvent setup & breakdown\nDecor & seating arrangements\nPromotion & advertising\nSponsorship outreach\nCatering coordination\nPhotography & printing\nCheck-in & data management\nFundraising & soliciting\nand more!\n\n🔥 If you’ve got passion\, we’ve got a place for you. Join us for one\, two\, or all three planning meetings and help us ramp up\, rally hard\, and MAGA like never before! \n📍 Let’s make these events legendary. Are you in? Join us!
URL:https://www.leegop.org/event/volunteer-meeting-all-welcome-3/
LOCATION:LeeGOP HQ\, 12995 S. Cleveland Ave. #239\, Fort Myers\, FL\, 33907\, United States
ATTACH;FMTTYPE=image/gif:https://www.leegop.org/wp-content/uploads/2025/07/RepublicanPartying.gif
ORGANIZER;CN="LeeGOP":MAILTO:office@LeeGOP.org
END:VEVENT
END:VCALENDAR