BEGIN:VCALENDAR
VERSION:2.0
PRODID:-//Lee County Republican Executive Committee - ECPv6.15.18//NONSGML v1.0//EN
CALSCALE:GREGORIAN
METHOD:PUBLISH
X-WR-CALNAME:Lee County Republican Executive Committee
X-ORIGINAL-URL:https://www.leegop.org
X-WR-CALDESC:Events for Lee County Republican Executive Committee
REFRESH-INTERVAL;VALUE=DURATION:PT1H
X-Robots-Tag:noindex
X-PUBLISHED-TTL:PT1H
BEGIN:VTIMEZONE
TZID:America/New_York
BEGIN:DAYLIGHT
TZOFFSETFROM:-0500
TZOFFSETTO:-0400
TZNAME:EDT
DTSTART:20240310T070000
END:DAYLIGHT
BEGIN:STANDARD
TZOFFSETFROM:-0400
TZOFFSETTO:-0500
TZNAME:EST
DTSTART:20241103T060000
END:STANDARD
BEGIN:DAYLIGHT
TZOFFSETFROM:-0500
TZOFFSETTO:-0400
TZNAME:EDT
DTSTART:20250309T070000
END:DAYLIGHT
BEGIN:STANDARD
TZOFFSETFROM:-0400
TZOFFSETTO:-0500
TZNAME:EST
DTSTART:20251102T060000
END:STANDARD
BEGIN:DAYLIGHT
TZOFFSETFROM:-0500
TZOFFSETTO:-0400
TZNAME:EDT
DTSTART:20260308T070000
END:DAYLIGHT
BEGIN:STANDARD
TZOFFSETFROM:-0400
TZOFFSETTO:-0500
TZNAME:EST
DTSTART:20261101T060000
END:STANDARD
END:VTIMEZONE
BEGIN:VEVENT
DTSTART;TZID=America/New_York:20250909T183000
DTEND;TZID=America/New_York:20250909T200000
DTSTAMP:20260422T070000
CREATED:20250826T210626Z
LAST-MODIFIED:20250827T010450Z
UID:10000801-1757442600-1757448000@www.leegop.org
SUMMARY:LCSO: Active Shooter/Situational Awareness Training
DESCRIPTION:🇺🇸 Lee County Sheriff’s Office: Active Shooter / Situational Awareness Training 🇺🇸\nHosted by:The America First Republican Club & The LCREC Veterans Committee \n📅 Tuesday\, September 9\, 2025🕠 6:30 PM📍 Lee GOP Headquarters12995 S. Cleveland Ave.\, Suite 239Fort Myers\, FL 33907 \nJoin us for a powerful and timely safety event as the Lee County Sheriff’s Office presents their Active Shooter / Situational Response Awareness Training. \nThis nationally recognized program\, based on the Run. Hide. Fight. method\, will equip you with the knowledge and tools needed to protect yourself and others in the unlikely event of an active shooter situation. \n✔ Learn how to make life-saving decisions under stress✔ Gain practical strategies for staying aware and prepared✔ Build confidence in your ability to respond effectively when seconds matter \nSpecial Invitation:From Roy Adams (LCREC Veterans Committee) & Michael Leiva (President\, AFRC) \nWe encourage all members\, veterans\, and community residents to take part in this important training. Together\, with the guidance of our Sheriff’s Office\, we can strengthen our community by staying informed\, prepared\, and united. Donations to the club appreciated \n💥 Space is limited to the first 50 attendees!📩 RSVP to Michael Leiva by text or email to secure your spot:✉️ mikeleiva.leiva@gmail.com\n📞 (239) 257-9793
URL:https://www.leegop.org/event/lee-county-sheriffs-office-active-shooter-situational-awareness-training/
LOCATION:LeeGOP HQ\, 12995 S. Cleveland Ave. #239\, Fort Myers\, FL\, 33907\, United States
CATEGORIES:America First Republican Club
ATTACH;FMTTYPE=image/jpeg:https://www.leegop.org/wp-content/uploads/2025/08/active-shooter-flyer.jpg
END:VEVENT
END:VCALENDAR