BEGIN:VCALENDAR
VERSION:2.0
PRODID:-//Lee County Republican Executive Committee - ECPv6.15.18//NONSGML v1.0//EN
CALSCALE:GREGORIAN
METHOD:PUBLISH
X-ORIGINAL-URL:https://www.leegop.org
X-WR-CALDESC:Events for Lee County Republican Executive Committee
REFRESH-INTERVAL;VALUE=DURATION:PT1H
X-Robots-Tag:noindex
X-PUBLISHED-TTL:PT1H
BEGIN:VTIMEZONE
TZID:America/New_York
BEGIN:DAYLIGHT
TZOFFSETFROM:-0500
TZOFFSETTO:-0400
TZNAME:EDT
DTSTART:20240310T070000
END:DAYLIGHT
BEGIN:STANDARD
TZOFFSETFROM:-0400
TZOFFSETTO:-0500
TZNAME:EST
DTSTART:20241103T060000
END:STANDARD
BEGIN:DAYLIGHT
TZOFFSETFROM:-0500
TZOFFSETTO:-0400
TZNAME:EDT
DTSTART:20250309T070000
END:DAYLIGHT
BEGIN:STANDARD
TZOFFSETFROM:-0400
TZOFFSETTO:-0500
TZNAME:EST
DTSTART:20251102T060000
END:STANDARD
BEGIN:DAYLIGHT
TZOFFSETFROM:-0500
TZOFFSETTO:-0400
TZNAME:EDT
DTSTART:20260308T070000
END:DAYLIGHT
BEGIN:STANDARD
TZOFFSETFROM:-0400
TZOFFSETTO:-0500
TZNAME:EST
DTSTART:20261101T060000
END:STANDARD
END:VTIMEZONE
BEGIN:VEVENT
DTSTART;TZID=America/New_York:20250917T173000
DTEND;TZID=America/New_York:20250917T200000
DTSTAMP:20260421T081206
CREATED:20250820T035649Z
LAST-MODIFIED:20250820T035649Z
UID:10000739-1758130200-1758139200@www.leegop.org
SUMMARY:Campaign Kickoff for Michael Thompson for FL HD-77
DESCRIPTION:You are cordially invited to join us on Wednesday\, Sept\, 17\, 2025 from 5:30 PM to 8:00 PM at Rum Bucket Bar & Grill located at 5150 Buckingham Road\, Fort Myers\, FL. 33905 as we Kickoff the Campaign for Michael Thompson for FL House District 77. \nIf you are unable to attend and would like to volunteer or donate\, please visit www.VoteMichaelThompson.com \nContributions are not deductible for Federal Income Tax purposes. Paid for by Michael Thompson\, Republican\, for House District 77
URL:https://www.leegop.org/event/campaign-kickoff-for-michael-thompson-for-fl-hd-77/
LOCATION:Rum Bucket Bar & Grill\, 5150 Buckingham Road\, Fort Myers\, 33905
CATEGORIES:Public Event
ATTACH;FMTTYPE=image/jpeg:https://www.leegop.org/wp-content/uploads/2025/08/invite.jpg
ORGANIZER;CN="Michael Thompson%2C Republican%2C for FL House District 77":MAILTO:Info@VoteMichaelThompson.com
END:VEVENT
END:VCALENDAR