BEGIN:VCALENDAR
VERSION:2.0
PRODID:-//Lee County Republican Executive Committee - ECPv6.15.18//NONSGML v1.0//EN
CALSCALE:GREGORIAN
METHOD:PUBLISH
X-WR-CALNAME:Lee County Republican Executive Committee
X-ORIGINAL-URL:https://www.leegop.org
X-WR-CALDESC:Events for Lee County Republican Executive Committee
REFRESH-INTERVAL;VALUE=DURATION:PT1H
X-Robots-Tag:noindex
X-PUBLISHED-TTL:PT1H
BEGIN:VTIMEZONE
TZID:America/New_York
BEGIN:DAYLIGHT
TZOFFSETFROM:-0500
TZOFFSETTO:-0400
TZNAME:EDT
DTSTART:20240310T070000
END:DAYLIGHT
BEGIN:STANDARD
TZOFFSETFROM:-0400
TZOFFSETTO:-0500
TZNAME:EST
DTSTART:20241103T060000
END:STANDARD
BEGIN:DAYLIGHT
TZOFFSETFROM:-0500
TZOFFSETTO:-0400
TZNAME:EDT
DTSTART:20250309T070000
END:DAYLIGHT
BEGIN:STANDARD
TZOFFSETFROM:-0400
TZOFFSETTO:-0500
TZNAME:EST
DTSTART:20251102T060000
END:STANDARD
BEGIN:DAYLIGHT
TZOFFSETFROM:-0500
TZOFFSETTO:-0400
TZNAME:EDT
DTSTART:20260308T070000
END:DAYLIGHT
BEGIN:STANDARD
TZOFFSETFROM:-0400
TZOFFSETTO:-0500
TZNAME:EST
DTSTART:20261101T060000
END:STANDARD
END:VTIMEZONE
BEGIN:VEVENT
DTSTART;TZID=America/New_York:20251008T180000
DTEND;TZID=America/New_York:20251008T200000
DTSTAMP:20260420T101643
CREATED:20250613T020652Z
LAST-MODIFIED:20250927T134944Z
UID:10000730-1759946400-1759953600@www.leegop.org
SUMMARY:How To Run For Office: Candidate Workshop
DESCRIPTION:Want to make a difference? Care about our community and know you have the skills to lead? WE WANT YOU! \nJoin us for the first in a series of candidate workshops where attorneys Steven Dywer and Steven Leskovich walk you through the basics of how to get started. If not you\, who? \n$20 suggested contribution supports your local GOP for more events like this. Pay upon arrival. Processing fees may apply. \nRSVP: office@leegop.org by October 7th.  \nCan’t make it? Join us again in January and February. Dates TBD/TBA.
URL:https://www.leegop.org/event/how-to-run-for-office-candidate-workshop-2/
LOCATION:LeeGOP HQ\, 12995 S. Cleveland Ave. #239\, Fort Myers\, FL\, 33907\, United States
ATTACH;FMTTYPE=image/webp:https://www.leegop.org/wp-content/uploads/2025/06/WeWantYou.webp
ORGANIZER;CN="LeeGOP":MAILTO:office@LeeGOP.org
END:VEVENT
END:VCALENDAR