BEGIN:VCALENDAR
VERSION:2.0
PRODID:-//Lee County Republican Executive Committee - ECPv6.15.18//NONSGML v1.0//EN
CALSCALE:GREGORIAN
METHOD:PUBLISH
X-WR-CALNAME:Lee County Republican Executive Committee
X-ORIGINAL-URL:https://www.leegop.org
X-WR-CALDESC:Events for Lee County Republican Executive Committee
REFRESH-INTERVAL;VALUE=DURATION:PT1H
X-Robots-Tag:noindex
X-PUBLISHED-TTL:PT1H
BEGIN:VTIMEZONE
TZID:America/New_York
BEGIN:DAYLIGHT
TZOFFSETFROM:-0500
TZOFFSETTO:-0400
TZNAME:EDT
DTSTART:20240310T070000
END:DAYLIGHT
BEGIN:STANDARD
TZOFFSETFROM:-0400
TZOFFSETTO:-0500
TZNAME:EST
DTSTART:20241103T060000
END:STANDARD
BEGIN:DAYLIGHT
TZOFFSETFROM:-0500
TZOFFSETTO:-0400
TZNAME:EDT
DTSTART:20250309T070000
END:DAYLIGHT
BEGIN:STANDARD
TZOFFSETFROM:-0400
TZOFFSETTO:-0500
TZNAME:EST
DTSTART:20251102T060000
END:STANDARD
BEGIN:DAYLIGHT
TZOFFSETFROM:-0500
TZOFFSETTO:-0400
TZNAME:EDT
DTSTART:20260308T070000
END:DAYLIGHT
BEGIN:STANDARD
TZOFFSETFROM:-0400
TZOFFSETTO:-0500
TZNAME:EST
DTSTART:20261101T060000
END:STANDARD
END:VTIMEZONE
BEGIN:VEVENT
DTSTART;TZID=America/New_York:20251106T173000
DTEND;TZID=America/New_York:20251106T193000
DTSTAMP:20260420T084318
CREATED:20251021T140543Z
LAST-MODIFIED:20251021T140543Z
UID:10000812-1762450200-1762457400@www.leegop.org
SUMMARY:Pathways to Success at The Lee County Schools
DESCRIPTION:We look forward to seeing everyone for our November Monthly Meeting featuring special presentations by Mr. Ed Matthews and Colonel Rodney Robinson on Pathways to Success at Lee County Schools. Please remember all non-members will be required to pay a $5 guest fee
URL:https://www.leegop.org/event/pathways-to-success-at-the-lee-county-schools/
LOCATION:The Lions Club\, 10370 Pennsylvania Ave\, Bonita Springs\, Florida
CATEGORIES:Republican Club Of Southwest Florida
ATTACH;FMTTYPE=image/jpeg:https://www.leegop.org/wp-content/uploads/2025/10/Pathhway-to-Success.jpg
ORGANIZER;CN="Republican Club of Southwest Florida":MAILTO:swflgop1@gmail.com
END:VEVENT
END:VCALENDAR