BEGIN:VCALENDAR
VERSION:2.0
PRODID:-//Lee County Republican Executive Committee - ECPv6.15.18//NONSGML v1.0//EN
CALSCALE:GREGORIAN
METHOD:PUBLISH
X-ORIGINAL-URL:https://www.leegop.org
X-WR-CALDESC:Events for Lee County Republican Executive Committee
REFRESH-INTERVAL;VALUE=DURATION:PT1H
X-Robots-Tag:noindex
X-PUBLISHED-TTL:PT1H
BEGIN:VTIMEZONE
TZID:America/New_York
BEGIN:DAYLIGHT
TZOFFSETFROM:-0500
TZOFFSETTO:-0400
TZNAME:EDT
DTSTART:20240310T070000
END:DAYLIGHT
BEGIN:STANDARD
TZOFFSETFROM:-0400
TZOFFSETTO:-0500
TZNAME:EST
DTSTART:20241103T060000
END:STANDARD
BEGIN:DAYLIGHT
TZOFFSETFROM:-0500
TZOFFSETTO:-0400
TZNAME:EDT
DTSTART:20250309T070000
END:DAYLIGHT
BEGIN:STANDARD
TZOFFSETFROM:-0400
TZOFFSETTO:-0500
TZNAME:EST
DTSTART:20251102T060000
END:STANDARD
BEGIN:DAYLIGHT
TZOFFSETFROM:-0500
TZOFFSETTO:-0400
TZNAME:EDT
DTSTART:20260308T070000
END:DAYLIGHT
BEGIN:STANDARD
TZOFFSETFROM:-0400
TZOFFSETTO:-0500
TZNAME:EST
DTSTART:20261101T060000
END:STANDARD
END:VTIMEZONE
BEGIN:VEVENT
DTSTART;TZID=America/New_York:20251204T173000
DTEND;TZID=America/New_York:20251204T193000
DTSTAMP:20260420T072538
CREATED:20251117T014614Z
LAST-MODIFIED:20251117T014614Z
UID:10000830-1764869400-1764876600@www.leegop.org
SUMMARY:Republican Club of Southwest Florida Monthly Meeting\, December 4th
DESCRIPTION:Members and Friends\, \nJoin us December 4th at the Lions Club in Bonita Springs for our monthly meeting featuring our State Attorney for the 20th Judicial Circuit \nAmira Fox. Doors open at 5:30pm and the business meeting starts promptly at 6:00pm.
URL:https://www.leegop.org/event/republican-club-of-southwest-florida-monthly-meeting-december-4th/
LOCATION:The Lions Club\, 10370 Pennsylvania Ave\, Bonita Springs\, Florida
CATEGORIES:Republican Club Of Southwest Florida
ATTACH;FMTTYPE=image/png:https://www.leegop.org/wp-content/uploads/2025/11/unnamed-51.png
ORGANIZER;CN="Republican Club of Southwest Florida":MAILTO:swflgop1@gmail.com
END:VEVENT
END:VCALENDAR