BEGIN:VCALENDAR
VERSION:2.0
PRODID:-//Lee County Republican Executive Committee - ECPv6.15.18//NONSGML v1.0//EN
CALSCALE:GREGORIAN
METHOD:PUBLISH
X-ORIGINAL-URL:https://www.leegop.org
X-WR-CALDESC:Events for Lee County Republican Executive Committee
REFRESH-INTERVAL;VALUE=DURATION:PT1H
X-Robots-Tag:noindex
X-PUBLISHED-TTL:PT1H
BEGIN:VTIMEZONE
TZID:America/New_York
BEGIN:DAYLIGHT
TZOFFSETFROM:-0500
TZOFFSETTO:-0400
TZNAME:EDT
DTSTART:20250309T070000
END:DAYLIGHT
BEGIN:STANDARD
TZOFFSETFROM:-0400
TZOFFSETTO:-0500
TZNAME:EST
DTSTART:20251102T060000
END:STANDARD
BEGIN:DAYLIGHT
TZOFFSETFROM:-0500
TZOFFSETTO:-0400
TZNAME:EDT
DTSTART:20260308T070000
END:DAYLIGHT
BEGIN:STANDARD
TZOFFSETFROM:-0400
TZOFFSETTO:-0500
TZNAME:EST
DTSTART:20261101T060000
END:STANDARD
BEGIN:DAYLIGHT
TZOFFSETFROM:-0500
TZOFFSETTO:-0400
TZNAME:EDT
DTSTART:20270314T070000
END:DAYLIGHT
BEGIN:STANDARD
TZOFFSETFROM:-0400
TZOFFSETTO:-0500
TZNAME:EST
DTSTART:20271107T060000
END:STANDARD
END:VTIMEZONE
BEGIN:VEVENT
DTSTART;TZID=America/New_York:20260221T100000
DTEND;TZID=America/New_York:20260221T113000
DTSTAMP:20260420T055956
CREATED:20251112T012343Z
LAST-MODIFIED:20260219T143809Z
UID:10000826-1771668000-1771673400@www.leegop.org
SUMMARY:How To Run For Office: Candidate Workshop
DESCRIPTION:Want to make a difference? Care about our community and know you have the skills to lead? WE WANT YOU! \nJoin us for the first in a series of candidate workshops where local attorneys Stephen Dwyer and Steven Leskovich walk you through the basics of how to get started. If not you\, who? \n$20 suggested contribution supports your local GOP for more events like this. Pay upon arrival. Processing fees may apply. \nRSVP: office@leegop.org by February 20th.  \nCan’t make it? Join us in March! \nFrom the Supervisor of Elections’ office @ www.Lee.Vote \nQualifying Dates\nJudicial Qualifying Dates: Noon\, April 20 through Noon\, April 24\, 2026\nCandidates may pre-qualify beginning on April 6\, 2026. \nAll Other Candidates Qualifying Dates: Noon\, June 8 through Noon\, June 12\, 2026\nCandidates may pre-qualify beginning on May 25\, 2026.\n(Our office will be closed on May 25 for the Memorial Day holiday.) \nTo submit completed documents\, visit the Main Office at \n2480 Thompson Street\nFort Myers 33901\nHours:\nMonday through Friday\n8:30 am to 5:00 pm \nCall the Qualifying Department at 239-533-8683 to schedule an appointment. \nQualifying items shall be deemed filed with the qualifying department upon the date of actual receipt by the qualifying department. To be deemed timely filed with the qualifying department\, qualifying items must be physically present at the department’s location by the close of the qualifying period. The U.S. Postal Service’s designated hours for mail pick-up do not correspond to the qualifying deadline\, nor do they deliver directly to the qualifying department. To ensure that the items are timely received\, it is advisable for candidates or someone on their behalf to hand-deliver directly to the qualifying department or use a delivery service that timely delivers directly to the qualifying department.
URL:https://www.leegop.org/event/how-to-run-for-office-candidate-workshop-3/
LOCATION:LeeGOP HQ\, 12995 S. Cleveland Ave. #239\, Fort Myers\, FL\, 33907\, United States
ATTACH;FMTTYPE=image/webp:https://www.leegop.org/wp-content/uploads/2025/06/WeWantYou.webp
ORGANIZER;CN="LeeGOP":MAILTO:office@LeeGOP.org
END:VEVENT
BEGIN:VEVENT
DTSTART;TZID=America/New_York:20260221T120000
DTEND;TZID=America/New_York:20260221T140000
DTSTAMP:20260420T055956
CREATED:20260115T041204Z
LAST-MODIFIED:20260115T041204Z
UID:10000842-1771675200-1771682400@www.leegop.org
SUMMARY:Free Meet and greet with Oberweis for Congress 
DESCRIPTION:Free Meet and greet with Oberweis for Congress \nANTHONY’S ON THE BLVD\nPRESIDENTS DAY EVENT \nSaturday February 21\, 2026\nNoon – 2:00 PM \n📍 1303 Del Prado Blvd S\nCape Coral\, FL 33990 \n  \n🍔 Free food and soft drinks \n🇺🇸 In honor of Presidents Day\, bring your George Washington’s for $1 drafts \n👨‍👩‍👧‍👦 Family friendly \n🧠 Bring your Presidential history knowledge to play Presidential Trivia (Approx. 1pm start time) \nPresident Trump’s Pastor\, who gave the invocation for President Trump’s Nomination in 2024 at the RNC convention will be leading us in trivia\, he may throw in a few bible questions\, so brush up before coming in. \n🎁 Win patriotic gear
URL:https://www.leegop.org/event/free-meet-and-greet-with-oberweis-for-congress/
LOCATION:RSW\, 11000 Terminal Access Road\, Fort Myers\, 33913
ATTACH;FMTTYPE=image/jpeg:https://www.leegop.org/wp-content/uploads/2026/01/Oberweis-Logo-Primary.jpg
ORGANIZER;CN="LeeGOP":MAILTO:office@LeeGOP.org
END:VEVENT
END:VCALENDAR