BEGIN:VCALENDAR
VERSION:2.0
PRODID:-//Lee County Republican Executive Committee - ECPv6.15.18//NONSGML v1.0//EN
CALSCALE:GREGORIAN
METHOD:PUBLISH
X-WR-CALNAME:Lee County Republican Executive Committee
X-ORIGINAL-URL:https://www.leegop.org
X-WR-CALDESC:Events for Lee County Republican Executive Committee
REFRESH-INTERVAL;VALUE=DURATION:PT1H
X-Robots-Tag:noindex
X-PUBLISHED-TTL:PT1H
BEGIN:VTIMEZONE
TZID:America/New_York
BEGIN:DAYLIGHT
TZOFFSETFROM:-0500
TZOFFSETTO:-0400
TZNAME:EDT
DTSTART:20230312T070000
END:DAYLIGHT
BEGIN:STANDARD
TZOFFSETFROM:-0400
TZOFFSETTO:-0500
TZNAME:EST
DTSTART:20231105T060000
END:STANDARD
BEGIN:DAYLIGHT
TZOFFSETFROM:-0500
TZOFFSETTO:-0400
TZNAME:EDT
DTSTART:20240310T070000
END:DAYLIGHT
BEGIN:STANDARD
TZOFFSETFROM:-0400
TZOFFSETTO:-0500
TZNAME:EST
DTSTART:20241103T060000
END:STANDARD
BEGIN:DAYLIGHT
TZOFFSETFROM:-0500
TZOFFSETTO:-0400
TZNAME:EDT
DTSTART:20250309T070000
END:DAYLIGHT
BEGIN:STANDARD
TZOFFSETFROM:-0400
TZOFFSETTO:-0500
TZNAME:EST
DTSTART:20251102T060000
END:STANDARD
END:VTIMEZONE
BEGIN:VEVENT
DTSTART;TZID=America/New_York:20241210T180000
DTEND;TZID=America/New_York:20241210T220000
DTSTAMP:20260420T070253
CREATED:20241111T212449Z
LAST-MODIFIED:20241126T213603Z
UID:10000679-1733853600-1733868000@www.leegop.org
SUMMARY:LCREC MAGA Christmas 2024
DESCRIPTION:LCREC Members and Volunteers – Join us for a MAGA Christmas Celebration!\nRSVP as the tickets will go fast and we have space for only 250.\nEach member and volunteer may bring one guest.\nTickets $20 per person.\nTicket sales end when we reach the number of people we have scheduled to attend.\nReception style hors d’oeuvres\, coffee and cash bar\, Christmas ambiance\, and door prizes!\nClick HERE to buy your tickets.
URL:https://www.leegop.org/event/lcrec-maga-christmas-2024/
LOCATION:Plantation Golf & Country Club\, 10500 Dartington Dr\,\, Fort Myers\, 33936
CATEGORIES:Christmas Party
ATTACH;FMTTYPE=image/jpeg:https://www.leegop.org/wp-content/uploads/2024/11/Trump-Maga-Cheer.jpg
ORGANIZER;CN="LeeGOP":MAILTO:office@LeeGOP.org
END:VEVENT
END:VCALENDAR