BEGIN:VCALENDAR
VERSION:2.0
PRODID:-//Lee County Republican Executive Committee - ECPv6.15.18//NONSGML v1.0//EN
CALSCALE:GREGORIAN
METHOD:PUBLISH
X-ORIGINAL-URL:https://www.leegop.org
X-WR-CALDESC:Events for Lee County Republican Executive Committee
REFRESH-INTERVAL;VALUE=DURATION:PT1H
X-Robots-Tag:noindex
X-PUBLISHED-TTL:PT1H
BEGIN:VTIMEZONE
TZID:America/New_York
BEGIN:DAYLIGHT
TZOFFSETFROM:-0500
TZOFFSETTO:-0400
TZNAME:EDT
DTSTART:20230312T070000
END:DAYLIGHT
BEGIN:STANDARD
TZOFFSETFROM:-0400
TZOFFSETTO:-0500
TZNAME:EST
DTSTART:20231105T060000
END:STANDARD
BEGIN:DAYLIGHT
TZOFFSETFROM:-0500
TZOFFSETTO:-0400
TZNAME:EDT
DTSTART:20240310T070000
END:DAYLIGHT
BEGIN:STANDARD
TZOFFSETFROM:-0400
TZOFFSETTO:-0500
TZNAME:EST
DTSTART:20241103T060000
END:STANDARD
BEGIN:DAYLIGHT
TZOFFSETFROM:-0500
TZOFFSETTO:-0400
TZNAME:EDT
DTSTART:20250309T070000
END:DAYLIGHT
BEGIN:STANDARD
TZOFFSETFROM:-0400
TZOFFSETTO:-0500
TZNAME:EST
DTSTART:20251102T060000
END:STANDARD
END:VTIMEZONE
BEGIN:VEVENT
DTSTART;TZID=America/New_York:20241112T173000
DTEND;TZID=America/New_York:20241112T210000
DTSTAMP:20260421T153649
CREATED:20241110T031921Z
LAST-MODIFIED:20241110T175529Z
UID:10000676-1731432600-1731445200@www.leegop.org
SUMMARY:Special Meeting - Candidate Forum for LCREC Board Positions
DESCRIPTION:Special meeting to vet candidates running for the LCREC Board positions for the next two years. Come hear from\, and ask questions of\, the candidates for Chair\, Vice Chair\, Secretary\, and Treasurer. These positions will be up for election on Dec 3rd and the new board will hold office for the next two years. General questions for the candidates already submitted to the Board will be followed by questions from the members and future members.\nThis is your opportunity to learn who they are and what they bring to the table\, so you can make an informed decision on election day.\nDoors open at 5:30 PM.  Meeting starts promptly at 6:30 PM\nAfter the formal forum there should be time for members to meet with the candidates one on one for further discussion.\nAs this is a special meeting\, attendance is not required\, however\, it would be appreciated if you let us know you cannot attend as this will help us with planning and preparation.
URL:https://www.leegop.org/event/special-meeting-candidate-forum-for-lcrec-board-positions/
LOCATION:Word of Life Church\, 6111 South Pointe Blvd.\, Fort Myers\, FL\, 33919\, United States
CATEGORIES:LeeGOP Meeting
ATTACH;FMTTYPE=image/png:https://www.leegop.org/wp-content/uploads/2024/11/Candidate-Forum.png
ORGANIZER;CN="LeeGOP":MAILTO:office@LeeGOP.org
END:VEVENT
END:VCALENDAR