BEGIN:VCALENDAR
VERSION:2.0
PRODID:-//Lee County Republican Executive Committee - ECPv6.15.18//NONSGML v1.0//EN
CALSCALE:GREGORIAN
METHOD:PUBLISH
X-ORIGINAL-URL:https://www.leegop.org
X-WR-CALDESC:Events for Lee County Republican Executive Committee
REFRESH-INTERVAL;VALUE=DURATION:PT1H
X-Robots-Tag:noindex
X-PUBLISHED-TTL:PT1H
BEGIN:VTIMEZONE
TZID:America/New_York
BEGIN:DAYLIGHT
TZOFFSETFROM:-0500
TZOFFSETTO:-0400
TZNAME:EDT
DTSTART:20240310T070000
END:DAYLIGHT
BEGIN:STANDARD
TZOFFSETFROM:-0400
TZOFFSETTO:-0500
TZNAME:EST
DTSTART:20241103T060000
END:STANDARD
BEGIN:DAYLIGHT
TZOFFSETFROM:-0500
TZOFFSETTO:-0400
TZNAME:EDT
DTSTART:20250309T070000
END:DAYLIGHT
BEGIN:STANDARD
TZOFFSETFROM:-0400
TZOFFSETTO:-0500
TZNAME:EST
DTSTART:20251102T060000
END:STANDARD
BEGIN:DAYLIGHT
TZOFFSETFROM:-0500
TZOFFSETTO:-0400
TZNAME:EDT
DTSTART:20260308T070000
END:DAYLIGHT
BEGIN:STANDARD
TZOFFSETFROM:-0400
TZOFFSETTO:-0500
TZNAME:EST
DTSTART:20261101T060000
END:STANDARD
END:VTIMEZONE
BEGIN:VEVENT
DTSTART;TZID=America/New_York:20250301T100000
DTEND;TZID=America/New_York:20250301T110000
DTSTAMP:20260421T061414
CREATED:20250227T212658Z
LAST-MODIFIED:20250227T212658Z
UID:10000685-1740823200-1740826800@www.leegop.org
SUMMARY:Coffee with the Chairs (LCREC members only)
DESCRIPTION:Have big ideas to discuss or want to learn more about how you can get involved as a precinct committeeman/woman? The Chair and Vice Chair will be available to LCREC members only. Don’t miss out on this opportunity to make your voice heard\, shape the future and get to know our newly-elected Chair Mercedes Price Harry and Vice Chair Grant Fichter ! \nEmail questions and RSVP to LCREChqAssist@gmail.com before 8PM Friday\, February 28th. \nLimited seating. REC members only. Want to become a member? Join us by clicking here. Open Houses are open to the public and are TBA. Stay tuned!
URL:https://www.leegop.org/event/coffee-with-the-chairs-lcrec-members-only/
LOCATION:RSW\, 11000 Terminal Access Road\, Fort Myers\, 33913
CATEGORIES:LeeGOP Meeting
ATTACH;FMTTYPE=image/png:https://www.leegop.org/wp-content/uploads/2025/02/coffee-with-the-chairs.-2.png
ORGANIZER;CN="LeeGOP":MAILTO:office@LeeGOP.org
END:VEVENT
END:VCALENDAR