BEGIN:VCALENDAR
VERSION:2.0
PRODID:-//Lee County Republican Executive Committee - ECPv6.15.18//NONSGML v1.0//EN
CALSCALE:GREGORIAN
METHOD:PUBLISH
X-WR-CALNAME:Lee County Republican Executive Committee
X-ORIGINAL-URL:https://www.leegop.org
X-WR-CALDESC:Events for Lee County Republican Executive Committee
REFRESH-INTERVAL;VALUE=DURATION:PT1H
X-Robots-Tag:noindex
X-PUBLISHED-TTL:PT1H
BEGIN:VTIMEZONE
TZID:America/New_York
BEGIN:DAYLIGHT
TZOFFSETFROM:-0500
TZOFFSETTO:-0400
TZNAME:EDT
DTSTART:20220313T070000
END:DAYLIGHT
BEGIN:STANDARD
TZOFFSETFROM:-0400
TZOFFSETTO:-0500
TZNAME:EST
DTSTART:20221106T060000
END:STANDARD
BEGIN:DAYLIGHT
TZOFFSETFROM:-0500
TZOFFSETTO:-0400
TZNAME:EDT
DTSTART:20230312T070000
END:DAYLIGHT
BEGIN:STANDARD
TZOFFSETFROM:-0400
TZOFFSETTO:-0500
TZNAME:EST
DTSTART:20231105T060000
END:STANDARD
BEGIN:DAYLIGHT
TZOFFSETFROM:-0500
TZOFFSETTO:-0400
TZNAME:EDT
DTSTART:20240310T070000
END:DAYLIGHT
BEGIN:STANDARD
TZOFFSETFROM:-0400
TZOFFSETTO:-0500
TZNAME:EST
DTSTART:20241103T060000
END:STANDARD
BEGIN:DAYLIGHT
TZOFFSETFROM:-0500
TZOFFSETTO:-0400
TZNAME:EDT
DTSTART:20250309T070000
END:DAYLIGHT
BEGIN:STANDARD
TZOFFSETFROM:-0400
TZOFFSETTO:-0500
TZNAME:EST
DTSTART:20251102T060000
END:STANDARD
BEGIN:DAYLIGHT
TZOFFSETFROM:-0500
TZOFFSETTO:-0400
TZNAME:EDT
DTSTART:20260308T070000
END:DAYLIGHT
BEGIN:STANDARD
TZOFFSETFROM:-0400
TZOFFSETTO:-0500
TZNAME:EST
DTSTART:20261101T060000
END:STANDARD
END:VTIMEZONE
BEGIN:VEVENT
DTSTART;TZID=America/New_York:20250301T100000
DTEND;TZID=America/New_York:20250301T110000
DTSTAMP:20260420T072843
CREATED:20250227T212658Z
LAST-MODIFIED:20250227T212658Z
UID:10000685-1740823200-1740826800@www.leegop.org
SUMMARY:Coffee with the Chairs (LCREC members only)
DESCRIPTION:Have big ideas to discuss or want to learn more about how you can get involved as a precinct committeeman/woman? The Chair and Vice Chair will be available to LCREC members only. Don’t miss out on this opportunity to make your voice heard\, shape the future and get to know our newly-elected Chair Mercedes Price Harry and Vice Chair Grant Fichter ! \nEmail questions and RSVP to LCREChqAssist@gmail.com before 8PM Friday\, February 28th. \nLimited seating. REC members only. Want to become a member? Join us by clicking here. Open Houses are open to the public and are TBA. Stay tuned!
URL:https://www.leegop.org/event/coffee-with-the-chairs-lcrec-members-only/
LOCATION:RSW\, 11000 Terminal Access Road\, Fort Myers\, 33913
CATEGORIES:LeeGOP Meeting
ATTACH;FMTTYPE=image/png:https://www.leegop.org/wp-content/uploads/2025/02/coffee-with-the-chairs.-2.png
ORGANIZER;CN="LeeGOP":MAILTO:office@LeeGOP.org
END:VEVENT
BEGIN:VEVENT
DTSTART;TZID=America/New_York:20241203T170000
DTEND;TZID=America/New_York:20241203T210000
DTSTAMP:20260420T072843
CREATED:20241110T032430Z
LAST-MODIFIED:20241110T032543Z
UID:10000677-1733245200-1733259600@www.leegop.org
SUMMARY:Board Elections and LCREC Orgnaizational Meeting
DESCRIPTION:The LCREC Board reorganization  and elections give the members an opportunity to vote in the Chair\, Vice Chair\, Secretary\, and Treasurer who will hold office for the next two years.\nPlease arrive early\, as everyone will need to check in and receive their ballots. We can begin promptly at 6:30 PM. Doors will open at 5:00 so ballots can be confirmed and poll watchers can observe. This can take some time.\nOnly those members who qualified and turned in completed Party Loyalty Oaths to the LCREC within 30 days of the primary election will be eligible to vote. After the election\, new members who will be considered to fill vacancies will be sworn in. The new board will have the option of proceeding with a general meeting.
URL:https://www.leegop.org/event/board-elections-and-lcrec-orgnaizational-meeting/
LOCATION:Word of Life Church\, 6111 South Pointe Blvd.\, Fort Myers\, FL\, 33919\, United States
CATEGORIES:LeeGOP Cmte. Meeting,LeeGOP Meeting
ATTACH;FMTTYPE=image/png:https://www.leegop.org/wp-content/uploads/2024/11/Vote.png
ORGANIZER;CN="LeeGOP":MAILTO:office@LeeGOP.org
END:VEVENT
BEGIN:VEVENT
DTSTART;TZID=America/New_York:20241112T173000
DTEND;TZID=America/New_York:20241112T210000
DTSTAMP:20260420T072843
CREATED:20241110T031921Z
LAST-MODIFIED:20241110T175529Z
UID:10000676-1731432600-1731445200@www.leegop.org
SUMMARY:Special Meeting - Candidate Forum for LCREC Board Positions
DESCRIPTION:Special meeting to vet candidates running for the LCREC Board positions for the next two years. Come hear from\, and ask questions of\, the candidates for Chair\, Vice Chair\, Secretary\, and Treasurer. These positions will be up for election on Dec 3rd and the new board will hold office for the next two years. General questions for the candidates already submitted to the Board will be followed by questions from the members and future members.\nThis is your opportunity to learn who they are and what they bring to the table\, so you can make an informed decision on election day.\nDoors open at 5:30 PM.  Meeting starts promptly at 6:30 PM\nAfter the formal forum there should be time for members to meet with the candidates one on one for further discussion.\nAs this is a special meeting\, attendance is not required\, however\, it would be appreciated if you let us know you cannot attend as this will help us with planning and preparation.
URL:https://www.leegop.org/event/special-meeting-candidate-forum-for-lcrec-board-positions/
LOCATION:Word of Life Church\, 6111 South Pointe Blvd.\, Fort Myers\, FL\, 33919\, United States
CATEGORIES:LeeGOP Meeting
ATTACH;FMTTYPE=image/png:https://www.leegop.org/wp-content/uploads/2024/11/Candidate-Forum.png
ORGANIZER;CN="LeeGOP":MAILTO:office@LeeGOP.org
END:VEVENT
BEGIN:VEVENT
DTSTART;TZID=America/New_York:20240521T183000
DTEND;TZID=America/New_York:20240521T203000
DTSTAMP:20260420T072843
CREATED:20240429T044022Z
LAST-MODIFIED:20240429T044022Z
UID:10000649-1716316200-1716323400@www.leegop.org
SUMMARY:LeeGOP General Meeting
DESCRIPTION:Doors Open at 5:45pm \nMeeting Starts at 6:30pm \nWe have a lot of new members to swear in at this meeting!! Candidates running for office who will be on the August and November ballots will be afforded 60 seconds to provide a brief introduction.
URL:https://www.leegop.org/event/leegop-general-meeting-3/
LOCATION:Word of Life Church\, 6111 South Pointe Blvd.\, Fort Myers\, FL\, 33919\, United States
CATEGORIES:LeeGOP Meeting
ATTACH;FMTTYPE=image/jpeg:https://www.leegop.org/wp-content/uploads/2023/12/LEEGOP-logo.jpg
ORGANIZER;CN="LeeGOP":MAILTO:office@LeeGOP.org
END:VEVENT
BEGIN:VEVENT
DTSTART;TZID=America/New_York:20240416T183000
DTEND;TZID=America/New_York:20240416T203000
DTSTAMP:20260420T072843
CREATED:20240314T190215Z
LAST-MODIFIED:20240314T190215Z
UID:10000637-1713292200-1713299400@www.leegop.org
SUMMARY:LeeGOP General Meeting
DESCRIPTION:Doors Open at 5:45pm \nMeeting Starts at 6:30pm \nWe have a lot of new members to swear in at this meeting\, 50+ !!
URL:https://www.leegop.org/event/leegop-general-meeting-2/
LOCATION:Word of Life Church\, 6111 South Pointe Blvd.\, Fort Myers\, FL\, 33919\, United States
CATEGORIES:LeeGOP Meeting
ATTACH;FMTTYPE=image/jpeg:https://www.leegop.org/wp-content/uploads/2023/12/LEEGOP-logo.jpg
ORGANIZER;CN="LeeGOP":MAILTO:office@LeeGOP.org
END:VEVENT
BEGIN:VEVENT
DTSTART;TZID=America/New_York:20240220T183000
DTEND;TZID=America/New_York:20240220T203000
DTSTAMP:20260420T072843
CREATED:20240122T015452Z
LAST-MODIFIED:20240122T015521Z
UID:10000622-1708453800-1708461000@www.leegop.org
SUMMARY:Feb. '24 LCREC General Meeting
DESCRIPTION:Please come join us on Tuesday Feb 20\, 2024 at the Word of Life Church in Fort Myers\, FL. as we hold our February 2024 General Business Meeting of the Lee County Republican Executive Committee. \nDoors Open at 5:45 PM \nMeeting begins at 6:30 PM \n*The public is welcome\, we ask that you do not participate in any potential Votes that may come up during the meeting or you will be asked to leave and not invited back. \nThank you\, \nChairman Thompson
URL:https://www.leegop.org/event/feb-24-lcrec-general-meeting/
LOCATION:Word of Life Church\, 6111 South Pointe Blvd.\, Fort Myers\, FL\, 33919\, United States
CATEGORIES:LeeGOP Meeting
ATTACH;FMTTYPE=image/jpeg:https://www.leegop.org/wp-content/uploads/2023/12/LEEGOP-logo.jpg
ORGANIZER;CN="LeeGOP":MAILTO:office@LeeGOP.org
END:VEVENT
BEGIN:VEVENT
DTSTART;TZID=America/New_York:20240116T183000
DTEND;TZID=America/New_York:20240116T203000
DTSTAMP:20260420T072843
CREATED:20231211T200017Z
LAST-MODIFIED:20231211T200031Z
UID:10000613-1705429800-1705437000@www.leegop.org
SUMMARY:LCREC Regular Business Meeting
DESCRIPTION:Mark your calendars now! Doors will open at 5:45PM and the meeting will begin at 6:30PM. \nOnce you have checked in\, please make your way into the auditorium\, so we can begin on time. Kindly remember that only water is permitted in the sanctuary. \nIf you are unable to attend\, please remember to submit a written notice to Leslie Jander via email at Secretary@LeeGOP.org.
URL:https://www.leegop.org/event/lcrec-regular-business-meeting/
LOCATION:Word of Life Church\, 6111 South Pointe Blvd.\, Fort Myers\, FL\, 33919\, United States
CATEGORIES:LeeGOP Meeting
ATTACH;FMTTYPE=image/jpeg:https://www.leegop.org/wp-content/uploads/2023/12/LEEGOP-logo.jpg
ORGANIZER;CN="Veterans Committee":MAILTO:283heavy@gmail.com
END:VEVENT
BEGIN:VEVENT
DTSTART;TZID=America/New_York:20231028T090000
DTEND;TZID=America/New_York:20231028T090000
DTSTAMP:20260420T072843
CREATED:20231023T152058Z
LAST-MODIFIED:20231025T130622Z
UID:10000480-1698483600-1698483600@www.leegop.org
SUMMARY:Special Meeting - Members only
DESCRIPTION:A special meeting has been called to address three members in accordance with the County Model Constitution Article V. Please see the constant contact newsletter for the specifics and supporting documentation. If you did not get this email\, or need it to be resent\, please email Secretary Jander at Secretary@LeeGOP.org and ask her to resend it to you. \nIf you are unable to attend\, please email Secretary Jander to let her know you need an excusal. \nNote this is a special meeting. Guest and visitors are not permitted to attend. The day and time is different from our regular business meetings so please take special note of this. \nSign in will begin at 8:30AM and the meeting will begin at 9AM. Please plan on staying for the entirety of the meeting as quorum is required for voting on the three motions.
URL:https://www.leegop.org/event/special-meeting-members-only/
LOCATION:Word of Life Church\, 6111 South Pointe Blvd.\, Fort Myers\, FL\, 33919\, United States
CATEGORIES:LeeGOP Meeting
ATTACH;FMTTYPE=image/jpeg:https://www.leegop.org/wp-content/uploads/2023/10/Special-meeting.jpg
ORGANIZER;CN="Veterans Committee":MAILTO:283heavy@gmail.com
END:VEVENT
BEGIN:VEVENT
DTSTART;TZID=America/New_York:20230912T183000
DTEND;TZID=America/New_York:20230912T203000
DTSTAMP:20260420T072843
CREATED:20230814T203729Z
LAST-MODIFIED:20230814T203729Z
UID:10000472-1694543400-1694550600@www.leegop.org
SUMMARY:LeeGOP General Meeting
DESCRIPTION:Come join the Lee Co. Republican Party as we hold our general business meeting with guest speaker and Chairman of the Republican Party of Florida\, Chairman Christian Ziegler. Chairman Ziegler will speak to the members and host a short Open Mic Q&A Session for any members who have questions for him. \nDoors open at 5:45 PM w/ the Meeting starting at 6:30 PM.
URL:https://www.leegop.org/event/leegop-general-meeting/
LOCATION:Word of Life Church\, 6111 South Pointe Blvd.\, Fort Myers\, FL\, 33919\, United States
CATEGORIES:LeeGOP Meeting
ATTACH;FMTTYPE=image/jpeg:https://www.leegop.org/wp-content/uploads/2023/05/IMG_1119.jpg
ORGANIZER;CN="Veterans Committee":MAILTO:283heavy@gmail.com
END:VEVENT
END:VCALENDAR