BEGIN:VCALENDAR
VERSION:2.0
PRODID:-//Lee County Republican Executive Committee - ECPv6.15.18//NONSGML v1.0//EN
CALSCALE:GREGORIAN
METHOD:PUBLISH
X-WR-CALNAME:Lee County Republican Executive Committee
X-ORIGINAL-URL:https://www.leegop.org
X-WR-CALDESC:Events for Lee County Republican Executive Committee
REFRESH-INTERVAL;VALUE=DURATION:PT1H
X-Robots-Tag:noindex
X-PUBLISHED-TTL:PT1H
BEGIN:VTIMEZONE
TZID:UTC
BEGIN:STANDARD
TZOFFSETFROM:+0000
TZOFFSETTO:+0000
TZNAME:UTC
DTSTART:20220101T000000
END:STANDARD
END:VTIMEZONE
BEGIN:VEVENT
DTSTART;TZID=UTC:20230221T174500
DTEND;TZID=UTC:20230221T174500
DTSTAMP:20260421T030251
CREATED:20230209T192729Z
LAST-MODIFIED:20230210T191942Z
UID:10000013-1677001500-1677001500@www.leegop.org
SUMMARY:The LCREC 2023 Kick-Off Meeting
DESCRIPTION:The LCREC 2023 Kick-Off Meeting\nWhen: Tuesday\, Feb. 21\, 2023 \nLocation: Marian Hall at St. Cecilia’s Catholic Community \n5632 Sunrise Drive\, Fort Myers\, FL. 33919 \nTime: 6:30 PM (doors open at 5:45pm) \nAGENDA \nMINUTES \nCOMMITTEE LIST \nRESOLUTION  #1 \nRESOLUTION #2
URL:https://www.leegop.org/event/the-lcrec-2023-kick-off-meeting/
LOCATION:FL
ATTACH;FMTTYPE=image/jpeg:https://www.leegop.org/wp-content/uploads/2023/02/unnamed.jpg
ORGANIZER;CN="Veterans Committee":MAILTO:283heavy@gmail.com
END:VEVENT
END:VCALENDAR