BEGIN:VCALENDAR
VERSION:2.0
PRODID:-//Lee County Republican Executive Committee - ECPv6.15.18//NONSGML v1.0//EN
CALSCALE:GREGORIAN
METHOD:PUBLISH
X-WR-CALNAME:Lee County Republican Executive Committee
X-ORIGINAL-URL:https://www.leegop.org
X-WR-CALDESC:Events for Lee County Republican Executive Committee
REFRESH-INTERVAL;VALUE=DURATION:PT1H
X-Robots-Tag:noindex
X-PUBLISHED-TTL:PT1H
BEGIN:VTIMEZONE
TZID:America/New_York
BEGIN:DAYLIGHT
TZOFFSETFROM:-0500
TZOFFSETTO:-0400
TZNAME:EDT
DTSTART:20240310T070000
END:DAYLIGHT
BEGIN:STANDARD
TZOFFSETFROM:-0400
TZOFFSETTO:-0500
TZNAME:EST
DTSTART:20241103T060000
END:STANDARD
BEGIN:DAYLIGHT
TZOFFSETFROM:-0500
TZOFFSETTO:-0400
TZNAME:EDT
DTSTART:20250309T070000
END:DAYLIGHT
BEGIN:STANDARD
TZOFFSETFROM:-0400
TZOFFSETTO:-0500
TZNAME:EST
DTSTART:20251102T060000
END:STANDARD
BEGIN:DAYLIGHT
TZOFFSETFROM:-0500
TZOFFSETTO:-0400
TZNAME:EDT
DTSTART:20260308T070000
END:DAYLIGHT
BEGIN:STANDARD
TZOFFSETFROM:-0400
TZOFFSETTO:-0500
TZNAME:EST
DTSTART:20261101T060000
END:STANDARD
END:VTIMEZONE
BEGIN:VEVENT
DTSTART;TZID=America/New_York:20250208T170000
DTEND;TZID=America/New_York:20250208T220000
DTSTAMP:20260423T001024
CREATED:20250205T034552Z
LAST-MODIFIED:20250205T034552Z
UID:10000684-1739034000-1739052000@www.leegop.org
SUMMARY:Voter Registration Drive
DESCRIPTION:There will be a voter registration drive at Cape Coral’s Bike Night. Stop by!
URL:https://www.leegop.org/event/voter-registration-drive/
LOCATION:Downtown Cape Coral\, 47th Terrace\, Cape Coral\, 33904
ATTACH;FMTTYPE=image/jpeg:https://www.leegop.org/wp-content/uploads/2025/02/BikeNight.jpg
END:VEVENT
BEGIN:VEVENT
DTSTART;TZID=America/New_York:20250211T183000
DTEND;TZID=America/New_York:20250211T203000
DTSTAMP:20260423T001024
CREATED:20250201T142217Z
LAST-MODIFIED:20250201T142217Z
UID:10000683-1739298600-1739305800@www.leegop.org
SUMMARY:LCREC Business Meeting
DESCRIPTION:Your Lee County Republican Executive Committee is an important organization directly affiliated to the Republican Party of Florida. We are your county delegates! The LCREC seeks to accomplish several objectives outlined in the state and county model constitutions. \n\nFoster loyalty to the Republican Party\nEducate voters\nIncrease Republican voter registrations\nSeek qualified Republicans\nPromote the election of Republicans in the General Election\nUphold the principles of the Republican Party\n\nWe are precinct committeemen/women who are tasked to keep our individual voting precincts informed about local Republican events and elections. We are the worker bees and our work has only just begun as we build the foundation for a strong America for generations to come. \nDuring business meetings the member-elected Board\, and others\, seek to update the committeemen/women on the organization’s previous\, current and future objectives. At times we discuss potential resolutions to be shared with our local officials. Everything starts local!  \nDoors open at 5:45PM. We kindly ask everyone to be checked in and seated by 6:20PM so we can start on time at 6:30PM.  \nMembers should submit their excused absences and suggested Agenda edits at least 48 hours prior to the business meeting date. Only members can vote during business meetings. Guests are welcome\, but cannot vote or participate. No RSVP is required. Join the LCREC as a member by clicking HERE. Want to volunteer instead? Sign up for our newsletter by clicking HERE. \nThis will be the first meeting for the newly elected Board so please be patient. 
URL:https://www.leegop.org/event/lcrec-business-meeting/
LOCATION:Word of Life Church\, 6111 South Pointe Blvd.\, Fort Myers\, FL\, 33919\, United States
ORGANIZER;CN="LeeGOP":MAILTO:office@LeeGOP.org
END:VEVENT
END:VCALENDAR