BEGIN:VCALENDAR
VERSION:2.0
PRODID:-//Lee County Republican Executive Committee - ECPv6.15.18//NONSGML v1.0//EN
CALSCALE:GREGORIAN
METHOD:PUBLISH
X-WR-CALNAME:Lee County Republican Executive Committee
X-ORIGINAL-URL:https://www.leegop.org
X-WR-CALDESC:Events for Lee County Republican Executive Committee
REFRESH-INTERVAL;VALUE=DURATION:PT1H
X-Robots-Tag:noindex
X-PUBLISHED-TTL:PT1H
BEGIN:VTIMEZONE
TZID:America/New_York
BEGIN:DAYLIGHT
TZOFFSETFROM:-0500
TZOFFSETTO:-0400
TZNAME:EDT
DTSTART:20240310T070000
END:DAYLIGHT
BEGIN:STANDARD
TZOFFSETFROM:-0400
TZOFFSETTO:-0500
TZNAME:EST
DTSTART:20241103T060000
END:STANDARD
BEGIN:DAYLIGHT
TZOFFSETFROM:-0500
TZOFFSETTO:-0400
TZNAME:EDT
DTSTART:20250309T070000
END:DAYLIGHT
BEGIN:STANDARD
TZOFFSETFROM:-0400
TZOFFSETTO:-0500
TZNAME:EST
DTSTART:20251102T060000
END:STANDARD
BEGIN:DAYLIGHT
TZOFFSETFROM:-0500
TZOFFSETTO:-0400
TZNAME:EDT
DTSTART:20260308T070000
END:DAYLIGHT
BEGIN:STANDARD
TZOFFSETFROM:-0400
TZOFFSETTO:-0500
TZNAME:EST
DTSTART:20261101T060000
END:STANDARD
END:VTIMEZONE
BEGIN:VEVENT
DTSTART;TZID=America/New_York:20250501T173000
DTEND;TZID=America/New_York:20250501T190000
DTSTAMP:20260422T140516
CREATED:20250430T095324Z
LAST-MODIFIED:20250430T095711Z
UID:10000711-1746120600-1746126000@www.leegop.org
SUMMARY:Republican Club of SWFL w/ Brian Hamman
DESCRIPTION:Join the Republican Club of SWFL at our May Monthly Meeting hearing from our friend County Commissioner Brian Hamman
URL:https://www.leegop.org/event/republican-club-of-swfl-w-brian-hamman/
LOCATION:RSW\, 11000 Terminal Access Road\, Fort Myers\, 33913
ATTACH;FMTTYPE=image/png:https://www.leegop.org/wp-content/uploads/2025/04/Blue-and-Red-Modern-Political-Election-Campaign-Choose-For-Change-Instagram-Post-3.png
ORGANIZER;CN="LeeGOP":MAILTO:office@LeeGOP.org
END:VEVENT
BEGIN:VEVENT
DTSTART;TZID=America/New_York:20250502T083000
DTEND;TZID=America/New_York:20250502T123000
DTSTAMP:20260422T140516
CREATED:20250430T123758Z
LAST-MODIFIED:20250430T124006Z
UID:10000713-1746174600-1746189000@www.leegop.org
SUMMARY:Call to Action
DESCRIPTION: Lee County GOP \nStands with Collier County GOP! \nJoin Us May 2nd to Protect Our Children and Defend Conservative Values \nFellow Conservatives\, \nThe Lee County Republican Executive Committee (LeeGOP) proudly stands with our friends in Collier County as they fight to protect children from the left’s endless cultural assaults. \nRecently\, Naples Pride filed a lawsuit originating in Collier County after the City of Naples responsibly moved a drag show out of Cambier Park to an indoor location to protect families and young children from adult-themed entertainment. \nThat case is now scheduled to be heard at the U.S. Courthouse in Fort Myers — and we must show up to support common sense and community standards! \nUnfortunately\, we are seeing similar trends here in Lee County\, with Pride events in Cape Coral becoming increasingly salacious in nature. The battle for our community values is not isolated — it’s happening right here at home as well. \n📢 Call to Action: Rally on May 2\, 2025! \nWhere: \n\nRally Point: In front of the Lee County Board of County Commissioners\nTime: 8:30 AM\n\nPress Conference: \n\n9:00 AM (same location)\n\nMarch to U.S. Courthouse: \n\n9:30 AM (to attend oral arguments)\nBring signs for the rally\, but leave them in your car before proceeding into the courthouse.\n\n💬 A Message from Tara Jenner\, your State Committeewoman for Lee County \n“The Lee County Republican Executive Committee is honored to represent the Republican voters of Lee County\, promote Republican values in our community\, and work every day to Keep Florida Free! \nThe lawsuit originating in Collier County\, though focused locally\, could have state-wide implications. It’s critical for conservatives to show up and stand our ground. \nWith similar events escalating here in Lee County\, including in Cape Coral\, it’s clear that defending our values requires vigilance across all our communities. \nIf you can attend the rally on May 2nd\, your presence will make a difference. If you cannot\, please keep our cause in your prayers.”
URL:https://www.leegop.org/event/9730/
LOCATION:Lee County Board of County Commissioners\, 2110 Mainstreet\, Fort myers\, FL\, United States
CATEGORIES:Public Event
ATTACH;FMTTYPE=image/jpeg:https://www.leegop.org/wp-content/uploads/2025/04/IMG_9681.jpeg
ORGANIZER;CN="LeeGOP":MAILTO:office@LeeGOP.org
END:VEVENT
BEGIN:VEVENT
DTSTART;TZID=America/New_York:20250506T180000
DTEND;TZID=America/New_York:20250506T200000
DTSTAMP:20260422T140516
CREATED:20250430T131209Z
LAST-MODIFIED:20250430T131209Z
UID:10000714-1746554400-1746561600@www.leegop.org
SUMMARY:Republican Patriots Club
DESCRIPTION:Join us for this month’s Republican Patriots Club meeting—an evening of good food\, great company\, and inspiration. Come out and enjoy a meal while hearing a heartfelt story from the founders of Valerie’s House\, a nonprofit dedicated to supporting grieving families. It’s a chance to connect with fellow patriots and be reminded of the strength and compassion that make our community great.
URL:https://www.leegop.org/event/republican-patriots-club/
LOCATION:Duffy’s Banquet Room\, 627 Cape Coral Pkwy\, cape coral\, United States
ATTACH;FMTTYPE=image/jpeg:https://www.leegop.org/wp-content/uploads/2025/04/IMG_0409.jpeg
ORGANIZER;CN="LeeGOP":MAILTO:office@LeeGOP.org
END:VEVENT
BEGIN:VEVENT
DTSTART;TZID=America/New_York:20250513T183000
DTEND;TZID=America/New_York:20250513T200000
DTSTAMP:20260422T140516
CREATED:20250326T034403Z
LAST-MODIFIED:20250326T034403Z
UID:10000703-1747161000-1747166400@www.leegop.org
SUMMARY:LCREC Business Meeting
DESCRIPTION:Your Lee County Republican Executive Committee is an important organization directly affiliated to the Republican Party of Florida. We are your county delegates! The LCREC seeks to accomplish several objectives outlined in the state and county model constitutions. \n\nFoster loyalty to the Republican Party\nEducate voters\nIncrease Republican voter registrations\nSeek qualified Republicans\nPromote the election of Republicans in the General Election\nUphold the principles of the Republican Party\n\nWe are precinct committeemen/women who are tasked to keep our individual voting precincts informed about local Republican events and elections\, to seek qualified candidates and to encourage our new neighbors to register Republican. \nDuring business meetings the member-elected Board\, and others\, seek to update the committeemen/women on the organization’s previous\, current and future objectives. At times we discuss potential resolutions to be shared with our local officials. Everything starts local!  \nDoors open at 545PM. We kindly ask everyone to be checked in and seated by 6:20PM so we can start on time at 6:30PM.  \nMembers should submit their excused absences\, motions\, and suggested agenda edits at least 48 hours prior to the business meeting date. Only members can vote during business meetings. Guests are welcome\, but cannot vote or participate. No RSVP is required. Join the LCREC as a member by attending a meeting to pick up an application and confirm your precinct’s availability. Want to volunteer instead? Sign up HERE.
URL:https://www.leegop.org/event/lcrec-business-meeting-3/2025-05-13/
LOCATION:Word of Life Church\, 6111 South Pointe Blvd.\, Fort Myers\, FL\, 33919\, United States
ATTACH;FMTTYPE=image/png:https://www.leegop.org/wp-content/uploads/2025/02/LOGO.png
ORGANIZER;CN="LeeGOP":MAILTO:office@LeeGOP.org
END:VEVENT
BEGIN:VEVENT
DTSTART;TZID=America/New_York:20250515T173000
DTEND;TZID=America/New_York:20250515T203000
DTSTAMP:20260422T140516
CREATED:20250501T130508Z
LAST-MODIFIED:20250501T130508Z
UID:10000715-1747330200-1747341000@www.leegop.org
SUMMARY:East Lee Republican Club
DESCRIPTION:
URL:https://www.leegop.org/event/east-lee-republican-club/
LOCATION:El Tarasco Mexican Restaurant\, 1320 Business way\, Lehigh Acres\, United States
CATEGORIES:Club Meeting,East Lee Republican Club
ATTACH;FMTTYPE=image/jpeg:https://www.leegop.org/wp-content/uploads/2025/05/494222003_122127412214774462_3769556001258770656_n.jpg
ORGANIZER;CN="LeeGOP":MAILTO:office@LeeGOP.org
END:VEVENT
BEGIN:VEVENT
DTSTART;TZID=America/New_York:20250520T111500
DTEND;TZID=America/New_York:20250520T140000
DTSTAMP:20260422T140516
CREATED:20250430T105524Z
LAST-MODIFIED:20250430T105524Z
UID:10000712-1747739700-1747749600@www.leegop.org
SUMMARY:Fort Myers Republican Woman's Club
DESCRIPTION:Please join us at The club at Pelican Preserve. We are pleased to have Jenna Persons-Mulicka\, our Florida House District 78 Representative as a guest speaker. She will provide a wrap-up of the 2024 Florida Legislative session in Tallahassee. Beginning with our social hour at 11:15 am\, the meeting and lunch will start at noon with our speaker shortly afterwards. Luncheon fee is $30. Cash or Check no Credit Cards. \nPlease RSVP with Diane Kinser @ Social.lady@yahoo.com by May 16th.
URL:https://www.leegop.org/event/fort-myers-republican-womans-club/
LOCATION:The Club at Pelican Preserve\, 9802 Pelican Preserve Blvd\, Fort Myers\, United States
CATEGORIES:Club Meeting,Fort Myers Republican Women’s Club
ATTACH;FMTTYPE=image/avif:https://www.leegop.org/wp-content/uploads/2024/10/Jenna-Persons-Mulicka.avif
ORGANIZER;CN="LeeGOP":MAILTO:office@LeeGOP.org
END:VEVENT
END:VCALENDAR