BEGIN:VCALENDAR
VERSION:2.0
PRODID:-//Lee County Republican Executive Committee - ECPv6.15.18//NONSGML v1.0//EN
CALSCALE:GREGORIAN
METHOD:PUBLISH
X-WR-CALNAME:Lee County Republican Executive Committee
X-ORIGINAL-URL:https://www.leegop.org
X-WR-CALDESC:Events for Lee County Republican Executive Committee
REFRESH-INTERVAL;VALUE=DURATION:PT1H
X-Robots-Tag:noindex
X-PUBLISHED-TTL:PT1H
BEGIN:VTIMEZONE
TZID:America/New_York
BEGIN:DAYLIGHT
TZOFFSETFROM:-0500
TZOFFSETTO:-0400
TZNAME:EDT
DTSTART:20240310T070000
END:DAYLIGHT
BEGIN:STANDARD
TZOFFSETFROM:-0400
TZOFFSETTO:-0500
TZNAME:EST
DTSTART:20241103T060000
END:STANDARD
BEGIN:DAYLIGHT
TZOFFSETFROM:-0500
TZOFFSETTO:-0400
TZNAME:EDT
DTSTART:20250309T070000
END:DAYLIGHT
BEGIN:STANDARD
TZOFFSETFROM:-0400
TZOFFSETTO:-0500
TZNAME:EST
DTSTART:20251102T060000
END:STANDARD
BEGIN:DAYLIGHT
TZOFFSETFROM:-0500
TZOFFSETTO:-0400
TZNAME:EDT
DTSTART:20260308T070000
END:DAYLIGHT
BEGIN:STANDARD
TZOFFSETFROM:-0400
TZOFFSETTO:-0500
TZNAME:EST
DTSTART:20261101T060000
END:STANDARD
END:VTIMEZONE
BEGIN:VEVENT
DTSTART;TZID=America/New_York:20250606T180000
DTEND;TZID=America/New_York:20250606T203000
DTSTAMP:20260422T140909
CREATED:20250529T174537Z
LAST-MODIFIED:20250529T175821Z
UID:10000723-1749232800-1749241800@www.leegop.org
SUMMARY:The 1916 Project documentary screening
DESCRIPTION:🕊️ Event Overview \nJoin us for an eye-opening evening as we delve into the origins of America’s moral crisis. This screening is more than just a film—it’s a call to action for those who value truth\, life\, and liberty. Hosted in collaboration with Debbie Healy of Women Impacting the Nation (W.I.N.) and Cape Coral First Christian Church\, this event aims to engage the public with vital information and build a stronger community that upholds Christian conservative values and traditions in Lee County\, Florida. \nThe $5 donation per ticket will be donated to the LEEGOP America First Club\, supporting efforts to preserve our nation’s founding principles and promote a culture of life. \n🗣️ Why Attend? \nUncover Hidden History: Learn about the eugenics movement and its lasting impact on American society. \nEngage with Experts: Hear from historians and pro-life advocates who shed light on the truth. \nTake Action: Discover how you can contribute to rebuilding a culture that honors life and liberty. \nSupport a Cause: Your participation helps fund the LEEGOP America First Club’s mission. \n📅 RSVP Today \nSeats are limited! Reserve your spot now to be part of this crucial conversation. \nEMAIL mikeleiva.leiva@gmail.com for tickets \nDon’t miss this opportunity to understand the origins of today’s cultural challenges and learn how you can be part of the solution. Together\, we can rebuild a culture that honors life\, liberty\, and the values that have made our nation great. \n🎬 About the Film \nThe 1916 Project is a powerful documentary that uncovers the disturbing legacy of Margaret Sanger\, the founder of Planned Parenthood\, and her deep ties to the eugenics movement—a harmful pseudoscientific belief aimed at “improving” humanity by controlling who could reproduce. This ideology targeted marginalized groups—especially people of color\, the poor\, and those with disabilities—justifying horrific policies like forced sterilizations and treating human lives as disposable. Through compelling historical research and expert analysis\, the film reveals how Sanger’s racist and elitist ideologies have shaped the modern cultural landscape. From the promotion of abortion to the breakdown of family structures and the rise of gender confusion\, The 1916 Project exposes the enduring impact of her influence\, particularly on communities of color. The film serves as a call to action for those seeking to understand the origins of America’s moral decline and the forces at play in today’s culture war.
URL:https://www.leegop.org/event/the-1916-project-documentary-screening/
LOCATION:Cape Coral First Christian Church\, 2620 Country Club Blvd\, Cape Coral\, FL\, 33904\, United States
CATEGORIES:Public Event
ATTACH;FMTTYPE=image/jpeg:https://www.leegop.org/wp-content/uploads/2025/05/1000000680.jpg
END:VEVENT
BEGIN:VEVENT
DTSTART;TZID=America/New_York:20250607T104500
DTEND;TZID=America/New_York:20250607T140000
DTSTAMP:20260422T140909
CREATED:20250516T111748Z
LAST-MODIFIED:20250516T111748Z
UID:10000721-1749293100-1749304800@www.leegop.org
SUMMARY:Gulf Coast Young Republicans Women's Tea Party
DESCRIPTION:Ladies\, you’re invited to join us for a relaxing tea time on June 7th with Florida House Representative Tiffany Esposito. This special\, Paid members-only event offers a chance to hear directly from Rep Esposito about her efforts to support local businesses and address the workforce shortage impacting our economy. Enjoy good company\, thoughtful conversation\, and fresh insight into issues that matter to our community. Cost is $25 per person and please RSVP to GulfCoastYRS@gmail.com
URL:https://www.leegop.org/event/gulf-coast-young-republicans-womens-tea-party/
LOCATION:Wisteria Tea Room and Cafe\, 2512 Second St\, Fort Myers\, 33901\, United States
CATEGORIES:Gulf Coast Young Republicans Club
ATTACH;FMTTYPE=image/jpeg:https://www.leegop.org/wp-content/uploads/2025/05/IMG_1919.jpeg
ORGANIZER;CN="Gulf Coast Young Republican Club":MAILTO:GulfcoastYRS@gmail.com
END:VEVENT
BEGIN:VEVENT
DTSTART;TZID=America/New_York:20250610T183000
DTEND;TZID=America/New_York:20250610T200000
DTSTAMP:20260422T140909
CREATED:20250326T034403Z
LAST-MODIFIED:20250326T034403Z
UID:10000704-1749580200-1749585600@www.leegop.org
SUMMARY:LCREC Business Meeting
DESCRIPTION:Your Lee County Republican Executive Committee is an important organization directly affiliated to the Republican Party of Florida. We are your county delegates! The LCREC seeks to accomplish several objectives outlined in the state and county model constitutions. \n\nFoster loyalty to the Republican Party\nEducate voters\nIncrease Republican voter registrations\nSeek qualified Republicans\nPromote the election of Republicans in the General Election\nUphold the principles of the Republican Party\n\nWe are precinct committeemen/women who are tasked to keep our individual voting precincts informed about local Republican events and elections\, to seek qualified candidates and to encourage our new neighbors to register Republican. \nDuring business meetings the member-elected Board\, and others\, seek to update the committeemen/women on the organization’s previous\, current and future objectives. At times we discuss potential resolutions to be shared with our local officials. Everything starts local!  \nDoors open at 545PM. We kindly ask everyone to be checked in and seated by 6:20PM so we can start on time at 6:30PM.  \nMembers should submit their excused absences\, motions\, and suggested agenda edits at least 48 hours prior to the business meeting date. Only members can vote during business meetings. Guests are welcome\, but cannot vote or participate. No RSVP is required. Join the LCREC as a member by attending a meeting to pick up an application and confirm your precinct’s availability. Want to volunteer instead? Sign up HERE.
URL:https://www.leegop.org/event/lcrec-business-meeting-3/2025-06-10/
LOCATION:Word of Life Church\, 6111 South Pointe Blvd.\, Fort Myers\, FL\, 33919\, United States
ATTACH;FMTTYPE=image/png:https://www.leegop.org/wp-content/uploads/2025/02/LOGO.png
ORGANIZER;CN="LeeGOP":MAILTO:office@LeeGOP.org
END:VEVENT
BEGIN:VEVENT
DTSTART;TZID=America/New_York:20250614T100000
DTEND;TZID=America/New_York:20250614T160000
DTSTAMP:20260422T140909
CREATED:20250415T091234Z
LAST-MODIFIED:20250613T234016Z
UID:10000710-1749895200-1749916800@www.leegop.org
SUMMARY:Freedom Fleet BOAT PARADE
DESCRIPTION:AHOY MATES!\nHosted by the LeeGOP chartered America First Club\nThis Flag Day\, we invite you to take part in a powerful tribute to our nation’s heritage\, freedom\, and future. The Lee GOP America First Club proudly presents Freedom Fleet – Sailing the Sovereign Seas\, a patriotic boat parade launching at 10:00 AM on the scenic Caloosahatchee River in Fort Myers.\n\nThis year’s event marks several historic milestones:\n• The adoption of the American flag in the year 1777\, June 14th\n• The 250th anniversary of both our nation and the U.S. Army\n• The birthday of President Donald J. Trump\n\nOur “Made in the U.S.A.” theme\, reflects our club’s commitment to uplifting American-made products\, supporting small businesses\, and honoring the hardworking people who fuel our economy and defend our freedom. This is more than a celebration—it’s about preserving the America First agenda here\, in Lee County and standing proudly for our shared values!\n\nWe’re honored to be joined by an exciting list of guests\, including:\nTito Ortiz\nUFC World Champion\nLocal Businesses Owner\nConservative Ant \nSocial media influencer\nMadison Cawthorn\nFmr U.S. Representative of North Carolina’s 11th congressional district\nAnd others!!!\n\nTHANK YOU TO THE FOLLOWING SPONSORS:\n\nTitle Sponsor: 93.7FM Trump Country \nUnited States Transport Towing & Recovery \nExtreme Demolition & Land Clearing\, LLC \nSmugglers Cove Boat Rentals \n  \n\nGather near the Mid-Point Bridge at 10AM.\nFOR MORE INFO CLICK HERE\n\nWe’ll eventually make our way to the Sanibel Lighthouse to MAGA amongst like-minded Patriots!\nBECOME A SPONSOR! Contact America First Club President\, Mike Leiva\, today!\nContact America First Club President Mike Leiva for information on how to become a sponsor!\nmikeleiva.leiva@gmail.com
URL:https://www.leegop.org/event/made-in-the-usa-boat-parade/
LOCATION:Caloosahatchee River
CATEGORIES:America First Republican Club
ATTACH;FMTTYPE=image/jpeg:https://www.leegop.org/wp-content/uploads/2025/04/Flotilla2025.jpg
END:VEVENT
BEGIN:VEVENT
DTSTART;TZID=America/New_York:20250625T183000
DTEND;TZID=America/New_York:20250625T200000
DTSTAMP:20260422T140909
CREATED:20250608T013640Z
LAST-MODIFIED:20250620T200144Z
UID:10000724-1750876200-1750881600@www.leegop.org
SUMMARY:Election Integrity: How Florida Elections Maintain Security
DESCRIPTION:Join Precinct committeeman\, Avery Dimmig (209)\, as he breaks down how “Florida elections maintain security”. \nThis unique perspective challenges common election integrity concerns and brings into question whether we should be focused on machines\, paper ballots\, or both. Avery will supply a number of handouts as he walks the audience through statistics they may not have heard or seen before. \nThis event is FREE for active precinct committeemen and women and is open to the public. \nA suggested contribution of $10 per person is requested for members of the public. \nThis is not a forum for debate. This workshop is a presentation and is strictly informational. \n*The information presented in this workshop is not endorsed by the LCREC. PCM Mr. Dimmig wishes to present his perspective\, which is not that of the LCREC as an organization. The LCREC has hundreds of members with many differing views. In March of 2023\, the LCREC overwhelmingly passed a resolution imploring our state legislature and Governor to eliminate voting machines and pivot to hand counted paper ballots. 
URL:https://www.leegop.org/event/election-integrity-how-florida-elections-maintain-security/
LOCATION:LeeGOP HQ\, 12995 S. Cleveland Ave. #239\, Fort Myers\, FL\, 33907\, United States
ATTACH;FMTTYPE=image/png:https://www.leegop.org/wp-content/uploads/2025/06/ELectionIntegrity.png
ORGANIZER;CN="LeeGOP":MAILTO:office@LeeGOP.org
END:VEVENT
END:VCALENDAR