BEGIN:VCALENDAR
VERSION:2.0
PRODID:-//Lee County Republican Executive Committee - ECPv6.15.18//NONSGML v1.0//EN
CALSCALE:GREGORIAN
METHOD:PUBLISH
X-WR-CALNAME:Lee County Republican Executive Committee
X-ORIGINAL-URL:https://www.leegop.org
X-WR-CALDESC:Events for Lee County Republican Executive Committee
REFRESH-INTERVAL;VALUE=DURATION:PT1H
X-Robots-Tag:noindex
X-PUBLISHED-TTL:PT1H
BEGIN:VTIMEZONE
TZID:America/New_York
BEGIN:DAYLIGHT
TZOFFSETFROM:-0500
TZOFFSETTO:-0400
TZNAME:EDT
DTSTART:20240310T070000
END:DAYLIGHT
BEGIN:STANDARD
TZOFFSETFROM:-0400
TZOFFSETTO:-0500
TZNAME:EST
DTSTART:20241103T060000
END:STANDARD
BEGIN:DAYLIGHT
TZOFFSETFROM:-0500
TZOFFSETTO:-0400
TZNAME:EDT
DTSTART:20250309T070000
END:DAYLIGHT
BEGIN:STANDARD
TZOFFSETFROM:-0400
TZOFFSETTO:-0500
TZNAME:EST
DTSTART:20251102T060000
END:STANDARD
BEGIN:DAYLIGHT
TZOFFSETFROM:-0500
TZOFFSETTO:-0400
TZNAME:EDT
DTSTART:20260308T070000
END:DAYLIGHT
BEGIN:STANDARD
TZOFFSETFROM:-0400
TZOFFSETTO:-0500
TZNAME:EST
DTSTART:20261101T060000
END:STANDARD
END:VTIMEZONE
BEGIN:VEVENT
DTSTART;TZID=America/New_York:20251101T100000
DTEND;TZID=America/New_York:20251101T113000
DTSTAMP:20260420T072539
CREATED:20250513T170855Z
LAST-MODIFIED:20251021T180952Z
UID:10000716-1761991200-1761996600@www.leegop.org
SUMMARY:Robert's Rules Workshop (BASICS)
DESCRIPTION:Join us at HQ in Fort Myers to learn about how and when to make a motion and the basics of Robert’s Rules. \nThis is a basic level workshop and is intended to provide you a jump off to learn and study more once you’ve left. We’ll stick to topics applicable to our business meetings and send you away with the confidence to speak up. This is not a deep discussion and is tailored toward the novice with the expectation that participants will have the tools to get started and leave the workshop to learn more on their own. \nFREE for active Precinct committeemen and women. Suggested $10 contribution for the public. \nRSVP TO OFFICE@LEEGOP.ORG by October 31st.
URL:https://www.leegop.org/event/roberts-rules-basics-2/
LOCATION:LeeGOP HQ\, 12995 S. Cleveland Ave. #239\, Fort Myers\, FL\, 33907\, United States
ATTACH;FMTTYPE=image/jpeg:https://www.leegop.org/wp-content/uploads/2025/05/111-graphic.jpg
ORGANIZER;CN="LeeGOP":MAILTO:office@LeeGOP.org
END:VEVENT
BEGIN:VEVENT
DTSTART;TZID=America/New_York:20251106T173000
DTEND;TZID=America/New_York:20251106T193000
DTSTAMP:20260420T072539
CREATED:20251021T140543Z
LAST-MODIFIED:20251021T140543Z
UID:10000812-1762450200-1762457400@www.leegop.org
SUMMARY:Pathways to Success at The Lee County Schools
DESCRIPTION:We look forward to seeing everyone for our November Monthly Meeting featuring special presentations by Mr. Ed Matthews and Colonel Rodney Robinson on Pathways to Success at Lee County Schools. Please remember all non-members will be required to pay a $5 guest fee
URL:https://www.leegop.org/event/pathways-to-success-at-the-lee-county-schools/
LOCATION:The Lions Club\, 10370 Pennsylvania Ave\, Bonita Springs\, Florida
CATEGORIES:Republican Club Of Southwest Florida
ATTACH;FMTTYPE=image/jpeg:https://www.leegop.org/wp-content/uploads/2025/10/Pathhway-to-Success.jpg
ORGANIZER;CN="Republican Club of Southwest Florida":MAILTO:swflgop1@gmail.com
END:VEVENT
BEGIN:VEVENT
DTSTART;TZID=America/New_York:20251108T100000
DTEND;TZID=America/New_York:20251108T120000
DTSTAMP:20260420T072539
CREATED:20251016T163832Z
LAST-MODIFIED:20251016T164609Z
UID:10000708-1762596000-1762603200@www.leegop.org
SUMMARY:Open House
DESCRIPTION:Sworn in at the last LCREC business meeting\, want to meet board members or just curious to know what we do and who we are? \nCalling all humble Patriots! Learn more about the Executive Committee (your county Republican Party) and role of the precinct committeeman/woman\, tour the GOP headquarters and find out how you can help Lee County move Florida forward. Our work has only just begun. What are you passionate about? We may have something for you! Bring your Patriot friends and neighbors. \nPUBLIC WELCOME!
URL:https://www.leegop.org/event/open-house-3-3/
LOCATION:LeeGOP HQ\, 12995 S. Cleveland Ave. #239\, Fort Myers\, FL\, 33907\, United States
CATEGORIES:Open House
ATTACH;FMTTYPE=image/png:https://www.leegop.org/wp-content/uploads/2025/03/coffee-with-the-chairs.-4.png
ORGANIZER;CN="LeeGOP":MAILTO:office@LeeGOP.org
END:VEVENT
BEGIN:VEVENT
DTSTART;TZID=America/New_York:20251110T173000
DTEND;TZID=America/New_York:20251110T193000
DTSTAMP:20260420T072539
CREATED:20251014T174738Z
LAST-MODIFIED:20251106T191848Z
UID:10000808-1762795800-1762803000@www.leegop.org
SUMMARY:Mike Pedersen for Congress Meet & Greet
DESCRIPTION:Come out to Bruno’s of Brooklyn and hear firsthand from Congressional Candidate\, Mike Pedersen. Hear his vision for our district and the future of our country. \nThe evening also marks the Marine Corps Birthday. A fitting tribute to service and leadership.  Hors d’oeuvres & cash bar available. \nSeats are limited and going fast. Please RSVP by November 2. \nhttps://www.punchbowl.com/parties/votemikepedersen \n  \nCandidate events are submitted by candidates or their representatives as a courtesy to educate and alert the interested public. Candidates and their events are not endorsed by the LCREC/Lee GOP.
URL:https://www.leegop.org/event/mike-pedersen-for-congress-meet-greet/
CATEGORIES:Public Event
ATTACH;FMTTYPE=image/png:https://www.leegop.org/wp-content/uploads/2025/10/Nov-10-Meet-Greet-white-2.png
END:VEVENT
BEGIN:VEVENT
DTSTART;TZID=America/New_York:20251115T090000
DTEND;TZID=America/New_York:20251115T110000
DTSTAMP:20260420T072539
CREATED:20250930T032515Z
LAST-MODIFIED:20251022T152554Z
UID:10000804-1763197200-1763204400@www.leegop.org
SUMMARY:JROTC Breakfast: Honoring our Veterans and supporting outstanding JROTC Cadet Scholarships
DESCRIPTION:Join the ranks for an unforgettable event with Lt. Governor Jay Collins and more!Support your Lee County GOP along with outstanding JROTC candidates\, and honor our veterans at our JROTC Breakfast on November 15th! Together we provide $1k scholarships awarded to high school seniors every May. This annual program includes presentations and speeches you do not want to miss.\n\nReport for duty. \n Check-in Begins @ 0845 Hours\nFuel up and scuttlebutt!\n Breakfast Buffet Starts @ 0900\n Juice & Coffee Bar\nEggs\, Sausage\, Bacon\, Potatoes\nFrench Toast & Assorted Pastries\n Program Runs from 0930-1100\nDynamic Speakers and Informative Presentations\n VIP Photos @ 1100-1130\nSnap a shot with the top brass! \n\nContributions to the Lee GOP are non-refundable and not tax deductible.\nPurchase TICKETS HERE  (before November 10)\n\nPurchase a table and/or donate a JROTC Scholarship HERE
URL:https://www.leegop.org/event/jrotc-breakfast-honoring-our-veterans-and-supporting-outstanding-jrotc-cadet-scholarships/
LOCATION:The Club at Pelican Preserve\, 9802 Pelican Preserve Blvd\, Fort Myers\, United States
ATTACH;FMTTYPE=image/png:https://www.leegop.org/wp-content/uploads/2025/09/2.png
ORGANIZER;CN="LeeGOP":MAILTO:office@LeeGOP.org
END:VEVENT
BEGIN:VEVENT
DTSTART;TZID=America/New_York:20251118T183000
DTEND;TZID=America/New_York:20251118T200000
DTSTAMP:20260420T072539
CREATED:20250612T142747Z
LAST-MODIFIED:20251112T011317Z
UID:10000726-1763490600-1763496000@www.leegop.org
SUMMARY:LCREC Business Meeting
DESCRIPTION:Your Lee County Republican Executive Committee is the business of the Lee County GOP\, a direct affiliate of the Republican Party of Florida and Republican National Committee. We are not a club. We are your county delegates. The voice of Lee County Republicans. \nThe LCREC seeks to accomplish several objectives outlined in the Party’s state and county model constitutions. \n\nFoster loyalty to the Republican Party\nEducate voters\nIncrease Republican voter registrations\nSeek qualified Republicans\nPromote the election of Republicans in the General Election\nUphold the principles of the Republican Party\n\nWe are precinct committeemen/women\, tasked to keep our individual voting precincts informed about local Republican events and elections\, to seek qualified candidates and to encourage our neighbors to register Republican. \nCandidates and elections are our thing! \nDuring business meetings the member-elected Board\, and others\, seek to update the committeemen/women on the organization’s past\, current and future objectives. Everything starts local!  \nDoors open at 545PM. We kindly ask everyone to be checked in and seated by 6:20PM so we can start on time at 630PM.  \nGuests are welcome\, but cannot vote or participate. No RSVP is required. Members should submit their excused absences\, motions\, and suggested agenda edits at least 72 hours prior to the business meeting date. Join the LCREC as a member by attending a meeting to fill out an application and confirm your precinct’s availability. You will be sworn in when you attend your second meeting and will be eligible to vote at your third meeting. \nWant to volunteer instead? Sign up HERE.
URL:https://www.leegop.org/event/lcrec-business-meeting-5/
LOCATION:Word of Life Church\, 6111 South Pointe Blvd.\, Fort Myers\, FL\, 33919\, United States
ATTACH;FMTTYPE=image/png:https://www.leegop.org/wp-content/uploads/2025/02/LOGO.png
ORGANIZER;CN="LeeGOP":MAILTO:office@LeeGOP.org
END:VEVENT
BEGIN:VEVENT
DTSTART;TZID=America/New_York:20251121T180000
DTEND;TZID=America/New_York:20251121T203000
DTSTAMP:20260420T072539
CREATED:20251104T165352Z
LAST-MODIFIED:20251104T165452Z
UID:10000814-1763748000-1763757000@www.leegop.org
SUMMARY:Vetting Candidates: Beyond the Glossy Flyers and Campaign Hype
DESCRIPTION:THE WATCHMEN’S SERIESCandidate Vetting:\nBeyond the Glossy Flyers and Campaign Hype\n🗓 Thursday\, November 21🕕 6:00 PM – 8:30 PM📍 Lee GOP Headquarters12995 S. Cleveland Ave\, Suite 239Fort Myers\, FL\n(Across the street from Mission BBQ and directly above Classy Nails)\n🍽 Potluck Dinner – Please bring something to share!💬 Interactive brainstorming session\n📧 RSVP to electtarajenner@gmail.com\nPlease place “Candidate Vetting”  in the subject line
URL:https://www.leegop.org/event/vetting-candidates-beyond-the-glossy-flyers-and-campaign-hype/
LOCATION:LeeGOP HQ\, 12995 S. Cleveland Ave. #239\, Fort Myers\, FL\, 33907\, United States
CATEGORIES:Public Event
ATTACH;FMTTYPE=image/webp:https://www.leegop.org/wp-content/uploads/2025/11/Vetting-Candidates.webp
ORGANIZER;CN="Tara Jenner":MAILTO:ViceChair@LeeGOP.org
END:VEVENT
END:VCALENDAR