BEGIN:VCALENDAR
VERSION:2.0
PRODID:-//Lee County Republican Executive Committee - ECPv6.15.18//NONSGML v1.0//EN
CALSCALE:GREGORIAN
METHOD:PUBLISH
X-ORIGINAL-URL:https://www.leegop.org
X-WR-CALDESC:Events for Lee County Republican Executive Committee
REFRESH-INTERVAL;VALUE=DURATION:PT1H
X-Robots-Tag:noindex
X-PUBLISHED-TTL:PT1H
BEGIN:VTIMEZONE
TZID:America/New_York
BEGIN:DAYLIGHT
TZOFFSETFROM:-0500
TZOFFSETTO:-0400
TZNAME:EDT
DTSTART:20230312T070000
END:DAYLIGHT
BEGIN:STANDARD
TZOFFSETFROM:-0400
TZOFFSETTO:-0500
TZNAME:EST
DTSTART:20231105T060000
END:STANDARD
BEGIN:DAYLIGHT
TZOFFSETFROM:-0500
TZOFFSETTO:-0400
TZNAME:EDT
DTSTART:20240310T070000
END:DAYLIGHT
BEGIN:STANDARD
TZOFFSETFROM:-0400
TZOFFSETTO:-0500
TZNAME:EST
DTSTART:20241103T060000
END:STANDARD
BEGIN:DAYLIGHT
TZOFFSETFROM:-0500
TZOFFSETTO:-0400
TZNAME:EDT
DTSTART:20250309T070000
END:DAYLIGHT
BEGIN:STANDARD
TZOFFSETFROM:-0400
TZOFFSETTO:-0500
TZNAME:EST
DTSTART:20251102T060000
END:STANDARD
END:VTIMEZONE
BEGIN:VEVENT
DTSTART;VALUE=DATE:20240727
DTEND;VALUE=DATE:20240728
DTSTAMP:20260422T204206
CREATED:20240722T115445Z
LAST-MODIFIED:20240722T115445Z
UID:10000663-1722038400-1722124799@www.leegop.org
SUMMARY:TRUMP BOAT PARADE
DESCRIPTION:AHOY LEE COUNTY PATRIOTS \nPlease join us this Saturday\, July the 27th on the Caloosahatchee River for what is sure to be A MASSIVE turnout in support of our President Donald J. Trump! \nThe FL Trump Campaign Team has heard all about it and they send their best wishes and gratitude! \nWe have special guest that will be joining us\, such as: \nFmr. Congressman Madison Cawthorn \nRoger Stone \nUFC World Champion\, Tito Ortiz \nOAN Journalist\, Neil McCabe \nRSBN will be there covering and reporting on the event. \n\nThis is going to be HUGE…….
URL:https://www.leegop.org/event/trump-boat-parade/
LOCATION:FL
CATEGORIES:Public Event
ATTACH;FMTTYPE=image/jpeg:https://www.leegop.org/wp-content/uploads/2024/07/Resized_image0000009_1720809352161.jpeg
ORGANIZER;CN="Veterans Committee":MAILTO:283heavy@gmail.com
END:VEVENT
END:VCALENDAR