BEGIN:VCALENDAR
VERSION:2.0
PRODID:-//Lee County Republican Executive Committee - ECPv6.15.18//NONSGML v1.0//EN
CALSCALE:GREGORIAN
METHOD:PUBLISH
X-WR-CALNAME:Lee County Republican Executive Committee
X-ORIGINAL-URL:https://www.leegop.org
X-WR-CALDESC:Events for Lee County Republican Executive Committee
REFRESH-INTERVAL;VALUE=DURATION:PT1H
X-Robots-Tag:noindex
X-PUBLISHED-TTL:PT1H
BEGIN:VTIMEZONE
TZID:America/New_York
BEGIN:DAYLIGHT
TZOFFSETFROM:-0500
TZOFFSETTO:-0400
TZNAME:EDT
DTSTART:20240310T070000
END:DAYLIGHT
BEGIN:STANDARD
TZOFFSETFROM:-0400
TZOFFSETTO:-0500
TZNAME:EST
DTSTART:20241103T060000
END:STANDARD
BEGIN:DAYLIGHT
TZOFFSETFROM:-0500
TZOFFSETTO:-0400
TZNAME:EDT
DTSTART:20250309T070000
END:DAYLIGHT
BEGIN:STANDARD
TZOFFSETFROM:-0400
TZOFFSETTO:-0500
TZNAME:EST
DTSTART:20251102T060000
END:STANDARD
BEGIN:DAYLIGHT
TZOFFSETFROM:-0500
TZOFFSETTO:-0400
TZNAME:EDT
DTSTART:20260308T070000
END:DAYLIGHT
BEGIN:STANDARD
TZOFFSETFROM:-0400
TZOFFSETTO:-0500
TZNAME:EST
DTSTART:20261101T060000
END:STANDARD
END:VTIMEZONE
BEGIN:VEVENT
DTSTART;TZID=America/New_York:20250906T170000
DTEND;TZID=America/New_York:20250906T193000
DTSTAMP:20260420T060843
CREATED:20250613T012852Z
LAST-MODIFIED:20250811T231014Z
UID:10000728-1757178000-1757187000@www.leegop.org
SUMMARY:Lee GOP Liberty Luau Fundraiser with Congressman Donalds
DESCRIPTION:Support your Lee GOP at an exclusive tropical-themed fundraiser with special guest Congressman Byron Donalds! Wear your best vintage Hawaiian shirts and summer dresses while enjoying sunset vibes with island music\, delicious charcuterie\, *MAGA Beer\, signature wine spritzers and good company! \nSpace is limited   • Auction and Pop Up Shop featuring works from Leoma Lovegrove’s gallery and more. \n3 Ticket payment options: • General Admission: $135\, General Admission for Two: $270 \nVIP: $250 each — includes private meet & greet + photo with Congressman Donalds \nContributions for this fundraiser are non-refundable \nLocation: *Esplanade Lake Club \n11501 Canal Grande Drive \nFort Myers\, FL 33913 \n*Location sponsored by Bill & Donna Daubmann\, MAGA Beer sponsored by Johnny Fratto* \nAll proceeds benefit the LCREC and our mission to educate voters\, host candidate events and make Lee County a bastion for strong conservatism. Contributions or gifts to the Lee County Republican Executive Committe (LCREC) are not deductible as charitable contributions for Federal income tax purposes.  All guest speakers are appearing as a special guest and are not soliciting any funds associated with this event.  All solicitations of funds in connection with this event are by the LCREC and not by any guest speaker. Paid political advertisement paid for by the LCREC\, 12995 S Cleveland Ave\, Suite 239\, Fort Myers\, FL 33907.
URL:https://www.leegop.org/event/lcrec-fundraiser-with-congressman-donalds/
LOCATION:Esplanade Lake Club\, 11501 Canal Grande Drive\, Fort Myers\, FL\, 33913\, United States
ATTACH;FMTTYPE=image/jpeg:https://www.leegop.org/wp-content/uploads/2025/06/Luau-scaled.jpg
ORGANIZER;CN="LeeGOP":MAILTO:office@LeeGOP.org
END:VEVENT
END:VCALENDAR