BEGIN:VCALENDAR
VERSION:2.0
PRODID:-//Lee County Republican Executive Committee - ECPv6.15.18//NONSGML v1.0//EN
CALSCALE:GREGORIAN
METHOD:PUBLISH
X-ORIGINAL-URL:https://www.leegop.org
X-WR-CALDESC:Events for Lee County Republican Executive Committee
REFRESH-INTERVAL;VALUE=DURATION:PT1H
X-Robots-Tag:noindex
X-PUBLISHED-TTL:PT1H
BEGIN:VTIMEZONE
TZID:America/New_York
BEGIN:DAYLIGHT
TZOFFSETFROM:-0500
TZOFFSETTO:-0400
TZNAME:EDT
DTSTART:20220313T070000
END:DAYLIGHT
BEGIN:STANDARD
TZOFFSETFROM:-0400
TZOFFSETTO:-0500
TZNAME:EST
DTSTART:20221106T060000
END:STANDARD
BEGIN:DAYLIGHT
TZOFFSETFROM:-0500
TZOFFSETTO:-0400
TZNAME:EDT
DTSTART:20230312T070000
END:DAYLIGHT
BEGIN:STANDARD
TZOFFSETFROM:-0400
TZOFFSETTO:-0500
TZNAME:EST
DTSTART:20231105T060000
END:STANDARD
BEGIN:DAYLIGHT
TZOFFSETFROM:-0500
TZOFFSETTO:-0400
TZNAME:EDT
DTSTART:20240310T070000
END:DAYLIGHT
BEGIN:STANDARD
TZOFFSETFROM:-0400
TZOFFSETTO:-0500
TZNAME:EST
DTSTART:20241103T060000
END:STANDARD
BEGIN:DAYLIGHT
TZOFFSETFROM:-0500
TZOFFSETTO:-0400
TZNAME:EDT
DTSTART:20250309T070000
END:DAYLIGHT
BEGIN:STANDARD
TZOFFSETFROM:-0400
TZOFFSETTO:-0500
TZNAME:EST
DTSTART:20251102T060000
END:STANDARD
BEGIN:DAYLIGHT
TZOFFSETFROM:-0500
TZOFFSETTO:-0400
TZNAME:EDT
DTSTART:20260308T070000
END:DAYLIGHT
BEGIN:STANDARD
TZOFFSETFROM:-0400
TZOFFSETTO:-0500
TZNAME:EST
DTSTART:20261101T060000
END:STANDARD
END:VTIMEZONE
BEGIN:VEVENT
DTSTART;TZID=America/New_York:20250401T180000
DTEND;TZID=America/New_York:20250401T200000
DTSTAMP:20260420T072547
CREATED:20250327T021143Z
LAST-MODIFIED:20250327T021143Z
UID:10000706-1743530400-1743537600@www.leegop.org
SUMMARY:Lee County Republican Patriots Club Meeting
DESCRIPTION:We are quickly approaching our April meeting.\n\nThe Lee County Republican Patriots Club will be meeting on Tuesday\, April 1\, 2025 with special guests The Southwest Florida Young Republicans Board.\n\n\n\nYou won’t want to miss this! Please invite a friend and enjoy a fun and educational evening. It’s April Fool’s Day\, wear your favorite fun outfit!\nPlease RSVP to maryrich501@gmail.com
URL:https://www.leegop.org/event/lee-county-republican-patriots-club-meeting/
LOCATION:Duffy’s Banquet Room\, 627 Cape Coral Parkway West\, Cape Coral\, FL\, 33914\, United States
ATTACH;FMTTYPE=image/png:https://www.leegop.org/wp-content/uploads/2025/03/unnamed-1.png
ORGANIZER;CN="Lee Co. Republican Patriots":MAILTO:LeeCountyRepublicanPatriots@gmail.com
END:VEVENT
BEGIN:VEVENT
DTSTART;TZID=America/New_York:20231003T180000
DTEND;TZID=America/New_York:20231003T200000
DTSTAMP:20260420T072547
CREATED:20230925T181044Z
LAST-MODIFIED:20230925T181044Z
UID:10000478-1696356000-1696363200@www.leegop.org
SUMMARY:Lee Co. Republican Patriots Meeting (Cape Coral\, FL)
DESCRIPTION:Come network with Lee Co. Patriots as we hear from State Rep. Spencer Roach on Tuesday\, October 3\, 2023 @ Duffy’s Banquet Room located at 627 Cape Coral Parkway W.\, Cape Coral\, FL.
URL:https://www.leegop.org/event/lee-co-republican-patriots-meeting-cape-coral-fl/
LOCATION:Duffy’s Banquet Room\, 627 Cape Coral Parkway West\, Cape Coral\, FL\, 33914\, United States
CATEGORIES:GOP Club Meeting,Public Event
ATTACH;FMTTYPE=image/jpeg:https://www.leegop.org/wp-content/uploads/2023/09/lori-scaled.jpg
ORGANIZER;CN="Lee Co. Republican Patriots":MAILTO:LeeCountyRepublicanPatriots@gmail.com
END:VEVENT
BEGIN:VEVENT
DTSTART;TZID=America/New_York:20230907T183000
DTEND;TZID=America/New_York:20230907T203000
DTSTAMP:20260420T072547
CREATED:20230817T174125Z
LAST-MODIFIED:20230817T174125Z
UID:10000477-1694111400-1694118600@www.leegop.org
SUMMARY:Faith Based Republican Club
DESCRIPTION:Our  nation was founded on Judeo-Christian principles. Come join us as we put faith back into politics and recenter our nation on God. Please check back for confirmation of the location where this meeting will be held.
URL:https://www.leegop.org/event/faith-based-republican-club-2/
LOCATION:Duffy’s Banquet Room\, 627 Cape Coral Parkway West\, Cape Coral\, FL\, 33914\, United States
CATEGORIES:Club Meeting
ATTACH;FMTTYPE=image/png:https://www.leegop.org/wp-content/uploads/2023/08/FAITH.png
ORGANIZER;CN="Veterans Committee":MAILTO:283heavy@gmail.com
END:VEVENT
BEGIN:VEVENT
DTSTART;TZID=America/New_York:20230824T183000
DTEND;TZID=America/New_York:20230824T203000
DTSTAMP:20260420T072547
CREATED:20230817T173813Z
LAST-MODIFIED:20230817T173813Z
UID:10000476-1692901800-1692909000@www.leegop.org
SUMMARY:American First Republican Club
DESCRIPTION:Second meeting. Location to be confirmed closer to the event date. please check back.
URL:https://www.leegop.org/event/american-first-republican-club-2/
LOCATION:Duffy’s Banquet Room\, 627 Cape Coral Parkway West\, Cape Coral\, FL\, 33914\, United States
CATEGORIES:Club Meeting
ATTACH;FMTTYPE=image/png:https://www.leegop.org/wp-content/uploads/2023/08/aMERICA-fIRST.png
ORGANIZER;CN="Veterans Committee":MAILTO:283heavy@gmail.com
END:VEVENT
END:VCALENDAR