BEGIN:VCALENDAR
VERSION:2.0
PRODID:-//Lee County Republican Executive Committee - ECPv6.15.18//NONSGML v1.0//EN
CALSCALE:GREGORIAN
METHOD:PUBLISH
X-ORIGINAL-URL:https://www.leegop.org
X-WR-CALDESC:Events for Lee County Republican Executive Committee
REFRESH-INTERVAL;VALUE=DURATION:PT1H
X-Robots-Tag:noindex
X-PUBLISHED-TTL:PT1H
BEGIN:VTIMEZONE
TZID:America/New_York
BEGIN:DAYLIGHT
TZOFFSETFROM:-0500
TZOFFSETTO:-0400
TZNAME:EDT
DTSTART:20220313T070000
END:DAYLIGHT
BEGIN:STANDARD
TZOFFSETFROM:-0400
TZOFFSETTO:-0500
TZNAME:EST
DTSTART:20221106T060000
END:STANDARD
BEGIN:DAYLIGHT
TZOFFSETFROM:-0500
TZOFFSETTO:-0400
TZNAME:EDT
DTSTART:20230312T070000
END:DAYLIGHT
BEGIN:STANDARD
TZOFFSETFROM:-0400
TZOFFSETTO:-0500
TZNAME:EST
DTSTART:20231105T060000
END:STANDARD
BEGIN:DAYLIGHT
TZOFFSETFROM:-0500
TZOFFSETTO:-0400
TZNAME:EDT
DTSTART:20240310T070000
END:DAYLIGHT
BEGIN:STANDARD
TZOFFSETFROM:-0400
TZOFFSETTO:-0500
TZNAME:EST
DTSTART:20241103T060000
END:STANDARD
END:VTIMEZONE
BEGIN:VEVENT
DTSTART;TZID=America/New_York:20230404T163000
DTEND;TZID=America/New_York:20230404T190000
DTSTAMP:20260421T032900
CREATED:20230403T042906Z
LAST-MODIFIED:20230403T042906Z
UID:10000030-1680625800-1680634800@www.leegop.org
SUMMARY:Flag Waiving Event
DESCRIPTION:Come join us at the intersection of US 41 and College Parkway. Bring your flags and your patriotism! We need to stand for liberty and justice against tyranny and politicized governmental action. \nWe will be peacefully supporting the rule of law and our great republic between 4:30 and 7:00 p.m. Come for all or part of the time. Feel free to invite others!
URL:https://www.leegop.org/event/flag-waiving-event/
LOCATION:US 41 and College Parkway
ATTACH;FMTTYPE=image/jpeg:https://www.leegop.org/wp-content/uploads/2023/04/Picsart_23-04-02_23-41-31-899.jpg
ORGANIZER;CN="Veterans Committee":MAILTO:283heavy@gmail.com
END:VEVENT
BEGIN:VEVENT
DTSTART;TZID=America/New_York:20230321T090000
DTEND;TZID=America/New_York:20230321T110000
DTSTAMP:20260421T032900
CREATED:20230320T185939Z
LAST-MODIFIED:20230320T193151Z
UID:10000028-1679389200-1679396400@www.leegop.org
SUMMARY:Pro America Rally!
DESCRIPTION:Come Celebrate Our Great Republic! \n  \nJoin us from 9 AM to 11 AM. encouraging our community by showing our patriotism. Bring your US\, Florida\, DeSantis\,  Trump\, and 2A flags\, banners\, and signs. Dress patriotically. We will be meeting on the corner of US 41 and College Parkway. \n  \n 
URL:https://www.leegop.org/event/pro-america-rally/
LOCATION:US 41 and College Parkway
ATTACH;FMTTYPE=image/jpeg:https://www.leegop.org/wp-content/uploads/2023/03/american_flag_and_bald_eagle_sticker__04476-1024x576-1690933629.jpg
ORGANIZER;CN="Veterans Committee":MAILTO:283heavy@gmail.com
END:VEVENT
END:VCALENDAR